BEGIN:VCALENDAR
VERSION:2.0
PRODID:-//Circuit Européen PAU ARNOS - ECPv6.15.13//NONSGML v1.0//EN
CALSCALE:GREGORIAN
METHOD:PUBLISH
X-WR-CALNAME:Circuit Européen PAU ARNOS
X-ORIGINAL-URL:https://circuit-pau-arnos.fr
X-WR-CALDESC:Évènements pour Circuit Européen PAU ARNOS
REFRESH-INTERVAL;VALUE=DURATION:PT1H
X-Robots-Tag:noindex
X-PUBLISHED-TTL:PT1H
BEGIN:VTIMEZONE
TZID:Europe/Paris
BEGIN:DAYLIGHT
TZOFFSETFROM:+0100
TZOFFSETTO:+0200
TZNAME:CEST
DTSTART:20220327T010000
END:DAYLIGHT
BEGIN:STANDARD
TZOFFSETFROM:+0200
TZOFFSETTO:+0100
TZNAME:CET
DTSTART:20221030T010000
END:STANDARD
BEGIN:DAYLIGHT
TZOFFSETFROM:+0100
TZOFFSETTO:+0200
TZNAME:CEST
DTSTART:20230326T010000
END:DAYLIGHT
BEGIN:STANDARD
TZOFFSETFROM:+0200
TZOFFSETTO:+0100
TZNAME:CET
DTSTART:20231029T010000
END:STANDARD
BEGIN:DAYLIGHT
TZOFFSETFROM:+0100
TZOFFSETTO:+0200
TZNAME:CEST
DTSTART:20240331T010000
END:DAYLIGHT
BEGIN:STANDARD
TZOFFSETFROM:+0200
TZOFFSETTO:+0100
TZNAME:CET
DTSTART:20241027T010000
END:STANDARD
END:VTIMEZONE
BEGIN:VEVENT
DTSTART;TZID=Europe/Paris:20230804T080000
DTEND;TZID=Europe/Paris:20230806T180000
DTSTAMP:20260423T183509
CREATED:20230503T134613Z
LAST-MODIFIED:20230503T134613Z
UID:10000365-1691136000-1691344800@circuit-pau-arnos.fr
SUMMARY:ECOLE DE PILOTAGE AUTO GTRO
DESCRIPTION:Circuit réservé par GTRO
URL:https://circuit-pau-arnos.fr/event/ecole-de-pilotage-auto-gtro-4/
LOCATION:Circuit PAU ARNOS\, Arnos\, 64048\, France
CATEGORIES:Circuit
ATTACH;FMTTYPE=image/jpeg:https://circuit-pau-arnos.fr/wp-content/uploads/2023/03/reserve.jpg
END:VEVENT
BEGIN:VEVENT
DTSTART;TZID=Europe/Paris:20230811T080000
DTEND;TZID=Europe/Paris:20230811T180000
DTSTAMP:20260423T183509
CREATED:20230503T134822Z
LAST-MODIFIED:20230503T134822Z
UID:10000366-1691740800-1691776800@circuit-pau-arnos.fr
SUMMARY:DUCATI CLUB DE FRANCE
DESCRIPTION:Circuit réservé DUCATI CLUB DE FRANCE
URL:https://circuit-pau-arnos.fr/event/ducati-club-de-france/
LOCATION:Circuit PAU ARNOS\, Arnos\, 64048\, France
CATEGORIES:Circuit
ATTACH;FMTTYPE=image/jpeg:https://circuit-pau-arnos.fr/wp-content/uploads/2023/03/reserve.jpg
END:VEVENT
BEGIN:VEVENT
DTSTART;TZID=Europe/Paris:20230812T080000
DTEND;TZID=Europe/Paris:20230814T180000
DTSTAMP:20260423T183509
CREATED:20230503T134849Z
LAST-MODIFIED:20230807T080905Z
UID:10000367-1691827200-1692036000@circuit-pau-arnos.fr
SUMMARY:SLIDER ENDURANCE
DESCRIPTION:Circuit réservé SLIDER ENDURANCE
URL:https://circuit-pau-arnos.fr/event/slider-endurance-3/
LOCATION:Circuit PAU ARNOS\, Arnos\, 64048\, France
CATEGORIES:Circuit
ATTACH;FMTTYPE=image/jpeg:https://circuit-pau-arnos.fr/wp-content/uploads/2023/03/reserve.jpg
END:VEVENT
BEGIN:VEVENT
DTSTART;VALUE=DATE:20230815
DTEND;VALUE=DATE:20230816
DTSTAMP:20260423T183509
CREATED:20230503T134945Z
LAST-MODIFIED:20230503T134945Z
UID:10000368-1692057600-1692143999@circuit-pau-arnos.fr
SUMMARY:CIRCUIT FERMÉ
DESCRIPTION:Circuit fermé
URL:https://circuit-pau-arnos.fr/event/circuit-ferme-2/
LOCATION:Circuit PAU ARNOS\, Arnos\, 64048\, France
CATEGORIES:Circuit
END:VEVENT
BEGIN:VEVENT
DTSTART;TZID=Europe/Paris:20230816T080000
DTEND;TZID=Europe/Paris:20230817T180000
DTSTAMP:20260423T183509
CREATED:20230503T135035Z
LAST-MODIFIED:20230503T135035Z
UID:10000369-1692172800-1692295200@circuit-pau-arnos.fr
SUMMARY:MPS ORGANISATION
DESCRIPTION:Circuit réservé par MPS ORGANISATION
URL:https://circuit-pau-arnos.fr/event/mps-organisation-2/
LOCATION:Circuit PAU ARNOS\, Arnos\, 64048\, France
CATEGORIES:Circuit
ATTACH;FMTTYPE=image/jpeg:https://circuit-pau-arnos.fr/wp-content/uploads/2023/03/reserve.jpg
END:VEVENT
BEGIN:VEVENT
DTSTART;TZID=Europe/Paris:20230818T080000
DTEND;TZID=Europe/Paris:20230818T180000
DTSTAMP:20260423T183509
CREATED:20230503T135136Z
LAST-MODIFIED:20230503T135136Z
UID:10000370-1692345600-1692381600@circuit-pau-arnos.fr
SUMMARY:CIRCUIT RÉSERVÉ
DESCRIPTION:Circuit réservé
URL:https://circuit-pau-arnos.fr/event/circuit-reserve-9/
LOCATION:Circuit PAU ARNOS\, Arnos\, 64048\, France
CATEGORIES:Circuit
ATTACH;FMTTYPE=image/jpeg:https://circuit-pau-arnos.fr/wp-content/uploads/2023/03/reserve.jpg
END:VEVENT
BEGIN:VEVENT
DTSTART;TZID=Europe/Paris:20230819T080000
DTEND;TZID=Europe/Paris:20230820T180000
DTSTAMP:20260423T183509
CREATED:20230503T135210Z
LAST-MODIFIED:20230503T135210Z
UID:10000371-1692432000-1692554400@circuit-pau-arnos.fr
SUMMARY:TOULOUSE MOTO CLASSIC
DESCRIPTION:Circuit réservé par TOULOUSE MOTO CLASSIC
URL:https://circuit-pau-arnos.fr/event/toulouse-moto-classic/
LOCATION:Circuit PAU ARNOS\, Arnos\, 64048\, France
CATEGORIES:Circuit
ATTACH;FMTTYPE=image/jpeg:https://circuit-pau-arnos.fr/wp-content/uploads/2023/03/reserve.jpg
END:VEVENT
END:VCALENDAR