BEGIN:VCALENDAR
VERSION:2.0
PRODID:-//Circuit Européen PAU ARNOS - ECPv6.15.13//NONSGML v1.0//EN
CALSCALE:GREGORIAN
METHOD:PUBLISH
X-ORIGINAL-URL:https://circuit-pau-arnos.fr
X-WR-CALDESC:Évènements pour Circuit Européen PAU ARNOS
REFRESH-INTERVAL;VALUE=DURATION:PT1H
X-Robots-Tag:noindex
X-PUBLISHED-TTL:PT1H
BEGIN:VTIMEZONE
TZID:Europe/Paris
BEGIN:DAYLIGHT
TZOFFSETFROM:+0100
TZOFFSETTO:+0200
TZNAME:CEST
DTSTART:20220327T010000
END:DAYLIGHT
BEGIN:STANDARD
TZOFFSETFROM:+0200
TZOFFSETTO:+0100
TZNAME:CET
DTSTART:20221030T010000
END:STANDARD
BEGIN:DAYLIGHT
TZOFFSETFROM:+0100
TZOFFSETTO:+0200
TZNAME:CEST
DTSTART:20230326T010000
END:DAYLIGHT
BEGIN:STANDARD
TZOFFSETFROM:+0200
TZOFFSETTO:+0100
TZNAME:CET
DTSTART:20231029T010000
END:STANDARD
BEGIN:DAYLIGHT
TZOFFSETFROM:+0100
TZOFFSETTO:+0200
TZNAME:CEST
DTSTART:20240331T010000
END:DAYLIGHT
BEGIN:STANDARD
TZOFFSETFROM:+0200
TZOFFSETTO:+0100
TZNAME:CET
DTSTART:20241027T010000
END:STANDARD
END:VTIMEZONE
BEGIN:VEVENT
DTSTART;VALUE=DATE:20231101
DTEND;VALUE=DATE:20231103
DTSTAMP:20260423T140253
CREATED:20230503T140720Z
LAST-MODIFIED:20230503T140720Z
UID:10000385-1698796800-1698969599@circuit-pau-arnos.fr
SUMMARY:CIRCUIT FERMÉ
DESCRIPTION:Circuit fermé
URL:https://circuit-pau-arnos.fr/event/circuit-ferme-3/
LOCATION:Circuit PAU ARNOS\, Arnos\, 64048\, France
CATEGORIES:Circuit
END:VEVENT
BEGIN:VEVENT
DTSTART;TZID=Europe/Paris:20231103T080000
DTEND;TZID=Europe/Paris:20231104T180000
DTSTAMP:20260423T140253
CREATED:20230503T140828Z
LAST-MODIFIED:20230503T140828Z
UID:10000387-1698998400-1699120800@circuit-pau-arnos.fr
SUMMARY:ECOLE DE PILOTAGE AUTO GTRO
DESCRIPTION:Circuit réservé par GTRO
URL:https://circuit-pau-arnos.fr/event/ecole-de-pilotage-auto-gtro-9/
LOCATION:Circuit PAU ARNOS\, Arnos\, 64048\, France
CATEGORIES:Circuit
ATTACH;FMTTYPE=image/jpeg:https://circuit-pau-arnos.fr/wp-content/uploads/2023/03/reserve.jpg
END:VEVENT
BEGIN:VEVENT
DTSTART;VALUE=DATE:20231111
DTEND;VALUE=DATE:20231112
DTSTAMP:20260423T140253
CREATED:20230913T110129Z
LAST-MODIFIED:20230913T110129Z
UID:10000886-1699660800-1699747199@circuit-pau-arnos.fr
SUMMARY:CIRCUIT RÉSERVÉ
DESCRIPTION:Circuit réservé
URL:https://circuit-pau-arnos.fr/event/circuit-reserve-4/
LOCATION:Circuit PAU ARNOS\, Arnos\, 64048\, France
CATEGORIES:Circuit
ATTACH;FMTTYPE=image/jpeg:https://circuit-pau-arnos.fr/wp-content/uploads/2023/03/reserve.jpg
END:VEVENT
BEGIN:VEVENT
DTSTART;VALUE=DATE:20231113
DTEND;VALUE=DATE:20231114
DTSTAMP:20260423T140253
CREATED:20231203T104228Z
LAST-MODIFIED:20231203T104228Z
UID:10001003-1699833600-1699919999@circuit-pau-arnos.fr
SUMMARY:CIRCUIT RÉSERVÉ
DESCRIPTION:Circuit réservé
URL:https://circuit-pau-arnos.fr/event/circuit-reserve-10/
LOCATION:Circuit PAU ARNOS\, Arnos\, 64048\, France
CATEGORIES:Circuit
ATTACH;FMTTYPE=image/jpeg:https://circuit-pau-arnos.fr/wp-content/uploads/2023/03/reserve.jpg
END:VEVENT
BEGIN:VEVENT
DTSTART;VALUE=DATE:20231114
DTEND;VALUE=DATE:20231115
DTSTAMP:20260423T140253
CREATED:20231203T104245Z
LAST-MODIFIED:20231203T104245Z
UID:10001004-1699920000-1700006399@circuit-pau-arnos.fr
SUMMARY:CIRCUIT RÉSERVÉ
DESCRIPTION:Circuit réservé
URL:https://circuit-pau-arnos.fr/event/circuit-reserve-12/
LOCATION:Circuit PAU ARNOS\, Arnos\, 64048\, France
CATEGORIES:Circuit
ATTACH;FMTTYPE=image/jpeg:https://circuit-pau-arnos.fr/wp-content/uploads/2023/03/reserve.jpg
END:VEVENT
BEGIN:VEVENT
DTSTART;VALUE=DATE:20231119
DTEND;VALUE=DATE:20231120
DTSTAMP:20260423T140253
CREATED:20230503T140803Z
LAST-MODIFIED:20230503T140803Z
UID:10000386-1700352000-1700438399@circuit-pau-arnos.fr
SUMMARY:CIRCUIT FERMÉ
DESCRIPTION:Circuit fermé
URL:https://circuit-pau-arnos.fr/event/circuit-ferme-4/
LOCATION:Circuit PAU ARNOS\, Arnos\, 64048\, France
CATEGORIES:Circuit
END:VEVENT
END:VCALENDAR