BEGIN:VCALENDAR
VERSION:2.0
PRODID:-//Circuit Européen PAU ARNOS - ECPv6.15.13//NONSGML v1.0//EN
CALSCALE:GREGORIAN
METHOD:PUBLISH
X-WR-CALNAME:Circuit Européen PAU ARNOS
X-ORIGINAL-URL:https://circuit-pau-arnos.fr
X-WR-CALDESC:Évènements pour Circuit Européen PAU ARNOS
REFRESH-INTERVAL;VALUE=DURATION:PT1H
X-Robots-Tag:noindex
X-PUBLISHED-TTL:PT1H
BEGIN:VTIMEZONE
TZID:Europe/Paris
BEGIN:DAYLIGHT
TZOFFSETFROM:+0100
TZOFFSETTO:+0200
TZNAME:CEST
DTSTART:20230326T010000
END:DAYLIGHT
BEGIN:STANDARD
TZOFFSETFROM:+0200
TZOFFSETTO:+0100
TZNAME:CET
DTSTART:20231029T010000
END:STANDARD
BEGIN:DAYLIGHT
TZOFFSETFROM:+0100
TZOFFSETTO:+0200
TZNAME:CEST
DTSTART:20240331T010000
END:DAYLIGHT
BEGIN:STANDARD
TZOFFSETFROM:+0200
TZOFFSETTO:+0100
TZNAME:CET
DTSTART:20241027T010000
END:STANDARD
BEGIN:DAYLIGHT
TZOFFSETFROM:+0100
TZOFFSETTO:+0200
TZNAME:CEST
DTSTART:20250330T010000
END:DAYLIGHT
BEGIN:STANDARD
TZOFFSETFROM:+0200
TZOFFSETTO:+0100
TZNAME:CET
DTSTART:20251026T010000
END:STANDARD
END:VTIMEZONE
BEGIN:VEVENT
DTSTART;VALUE=DATE:20240830
DTEND;VALUE=DATE:20240902
DTSTAMP:20260422T231942
CREATED:20231203T144102Z
LAST-MODIFIED:20231203T144114Z
UID:10001048-1724976000-1725235199@circuit-pau-arnos.fr
SUMMARY:ECOLE DE PILOTAGE AUTO GTRO
DESCRIPTION:Circuit réservé par GTRO
URL:https://circuit-pau-arnos.fr/event/ecole-de-pilotage-auto-gtro-14/
LOCATION:Circuit PAU ARNOS\, Arnos\, 64048\, France
CATEGORIES:Circuit
ATTACH;FMTTYPE=image/jpeg:https://circuit-pau-arnos.fr/wp-content/uploads/2023/03/reserve.jpg
END:VEVENT
BEGIN:VEVENT
DTSTART;VALUE=DATE:20240906
DTEND;VALUE=DATE:20240909
DTSTAMP:20260422T231942
CREATED:20231203T150959Z
LAST-MODIFIED:20240314T075618Z
UID:10001063-1725580800-1725839999@circuit-pau-arnos.fr
SUMMARY:CHAMPIONNAT DE FRANCE VITESSE MOTOS ANCIENNES
DESCRIPTION:plus d'informations
URL:https://circuit-pau-arnos.fr/event/championnat-de-france-vitesse-motos-anciennes-2/
LOCATION:Circuit PAU ARNOS\, Arnos\, 64048\, France
CATEGORIES:Circuit
ATTACH;FMTTYPE=image/jpeg:https://circuit-pau-arnos.fr/wp-content/uploads/2023/02/contact.jpg
END:VEVENT
BEGIN:VEVENT
DTSTART;VALUE=DATE:20240909
DTEND;VALUE=DATE:20240910
DTSTAMP:20260422T231942
CREATED:20240208T132801Z
LAST-MODIFIED:20240208T132801Z
UID:10001191-1725840000-1725926399@circuit-pau-arnos.fr
SUMMARY:CIRCUIT RÉSERVÉ
DESCRIPTION:Circuit réservé
URL:https://circuit-pau-arnos.fr/event/circuit-reserve-35/
LOCATION:Circuit PAU ARNOS\, Arnos\, 64048\, France
CATEGORIES:Circuit
ATTACH;FMTTYPE=image/jpeg:https://circuit-pau-arnos.fr/wp-content/uploads/2023/03/reserve.jpg
END:VEVENT
BEGIN:VEVENT
DTSTART;VALUE=DATE:20240911
DTEND;VALUE=DATE:20240912
DTSTAMP:20260422T231942
CREATED:20241128T143932Z
LAST-MODIFIED:20241128T143932Z
UID:10001577-1726012800-1726099199@circuit-pau-arnos.fr
SUMMARY:CIRCUIT RÉSERVÉ
DESCRIPTION:Circuit réservé
URL:https://circuit-pau-arnos.fr/event/circuit-reserve-56/
LOCATION:Circuit PAU ARNOS\, Arnos\, 64048\, France
CATEGORIES:Circuit
ATTACH;FMTTYPE=image/jpeg:https://circuit-pau-arnos.fr/wp-content/uploads/2023/03/reserve.jpg
END:VEVENT
BEGIN:VEVENT
DTSTART;VALUE=DATE:20240913
DTEND;VALUE=DATE:20240916
DTSTAMP:20260422T231942
CREATED:20231203T144134Z
LAST-MODIFIED:20231203T144134Z
UID:10001049-1726185600-1726444799@circuit-pau-arnos.fr
SUMMARY:ECOLE DE PILOTAGE AUTO GTRO
DESCRIPTION:Circuit réservé par GTRO
URL:https://circuit-pau-arnos.fr/event/ecole-de-pilotage-auto-gtro-15/
LOCATION:Circuit PAU ARNOS\, Arnos\, 64048\, France
CATEGORIES:Circuit
ATTACH;FMTTYPE=image/jpeg:https://circuit-pau-arnos.fr/wp-content/uploads/2023/03/reserve.jpg
END:VEVENT
BEGIN:VEVENT
DTSTART;VALUE=DATE:20240917
DTEND;VALUE=DATE:20240919
DTSTAMP:20260422T231942
CREATED:20240701T092859Z
LAST-MODIFIED:20240701T092859Z
UID:10001358-1726531200-1726703999@circuit-pau-arnos.fr
SUMMARY:ECOLE DE PILOTAGE AUTO GTRO
DESCRIPTION:Circuit réservé par GTRO
URL:https://circuit-pau-arnos.fr/event/ecole-de-pilotage-auto-gtro-20/
LOCATION:Circuit PAU ARNOS\, Arnos\, 64048\, France
CATEGORIES:Circuit
ATTACH;FMTTYPE=image/jpeg:https://circuit-pau-arnos.fr/wp-content/uploads/2023/03/reserve.jpg
END:VEVENT
BEGIN:VEVENT
DTSTART;VALUE=DATE:20240921
DTEND;VALUE=DATE:20240922
DTSTAMP:20260422T231942
CREATED:20231203T142712Z
LAST-MODIFIED:20240827T083715Z
UID:10001034-1726876800-1726963199@circuit-pau-arnos.fr
SUMMARY:CIRCUIT RÉSERVÉ
DESCRIPTION:Circuit réservé
URL:https://circuit-pau-arnos.fr/event/circuit-reserve-25/
LOCATION:Circuit PAU ARNOS\, Arnos\, 64048\, France
CATEGORIES:Circuit
ATTACH;FMTTYPE=image/jpeg:https://circuit-pau-arnos.fr/wp-content/uploads/2023/03/reserve.jpg
END:VEVENT
BEGIN:VEVENT
DTSTART;VALUE=DATE:20240923
DTEND;VALUE=DATE:20240924
DTSTAMP:20260422T231942
CREATED:20240814T125133Z
LAST-MODIFIED:20240816T155709Z
UID:10001398-1727049600-1727135999@circuit-pau-arnos.fr
SUMMARY:STAGE MOTO 100% FEMININ
DESCRIPTION:Le Circuit Pau Arnos en collaboration avec Sallaberry Moto Coaching organise un stage 100% féminin le lundi 23 septembre ! \nAu programme de ce stage de préparation à la compétition :  \n\n6 sessions de 20 minutes de roulage\ntravail en salle\, debriefing vidéo après chaque session\nbaptême pédagogique avec intercom\npilotage\, trajectoires\, approche de la compétition\, stratégie\, essais de départ\ncoaching individualisé et adapté aux besoins\nemplacement dans un box\nplaces limitées\n\nTarif : 199€ la journée (hors licence*) \nInscription obligatoire sur Engage Sports \n            \n            \n            Inscription\n	        \n            \n        \n     \n*Licence FFM obligatoire (annuelle ou pass circuit à la journée) \n            \n            \n            licence\n	        \n            \n        \n     \n  \nEquipement obligatoire : \n\ncombinaison cuir ou deux pièces rattachables en cuir\ndorsale fortement recommandée\ncasque intégral\ngants et bottes montantes\n\nContrôle sonomètre obligatoire (maximum autorisé 102 dB)
URL:https://circuit-pau-arnos.fr/event/stage-feminin/
LOCATION:Circuit PAU ARNOS\, Arnos\, 64048\, France
CATEGORIES:Circuit
ATTACH;FMTTYPE=image/png:https://circuit-pau-arnos.fr/wp-content/uploads/2024/08/thumbnail_Stage-feminin-2024.png
END:VEVENT
BEGIN:VEVENT
DTSTART;VALUE=DATE:20240926
DTEND;VALUE=DATE:20240928
DTSTAMP:20260422T231942
CREATED:20231203T150150Z
LAST-MODIFIED:20231203T150150Z
UID:10001060-1727308800-1727481599@circuit-pau-arnos.fr
SUMMARY:H2S ECOLE DE PILOTAGE MOTO
DESCRIPTION:Circuit réservé par H2S
URL:https://circuit-pau-arnos.fr/event/h2s-ecole-de-pilotage-moto-2/
LOCATION:Circuit PAU ARNOS\, Arnos\, 64048\, France
CATEGORIES:Circuit
ATTACH;FMTTYPE=image/jpeg:https://circuit-pau-arnos.fr/wp-content/uploads/2023/03/reserve.jpg
END:VEVENT
BEGIN:VEVENT
DTSTART;VALUE=DATE:20240928
DTEND;VALUE=DATE:20240930
DTSTAMP:20260422T231942
CREATED:20231203T150007Z
LAST-MODIFIED:20231203T150007Z
UID:10001059-1727481600-1727654399@circuit-pau-arnos.fr
SUMMARY:CBO TRACK DAYS
DESCRIPTION:Circuit réservé par CBO TRACK DAYS
URL:https://circuit-pau-arnos.fr/event/cbo-track-days-3/
LOCATION:Circuit PAU ARNOS\, Arnos\, 64048\, France
CATEGORIES:Circuit
ATTACH;FMTTYPE=image/jpeg:https://circuit-pau-arnos.fr/wp-content/uploads/2023/03/reserve.jpg
END:VEVENT
END:VCALENDAR