BEGIN:VCALENDAR
VERSION:2.0
PRODID:-//Circuit Européen PAU ARNOS - ECPv6.15.13//NONSGML v1.0//EN
CALSCALE:GREGORIAN
METHOD:PUBLISH
X-ORIGINAL-URL:https://circuit-pau-arnos.fr
X-WR-CALDESC:Évènements pour Circuit Européen PAU ARNOS
REFRESH-INTERVAL;VALUE=DURATION:PT1H
X-Robots-Tag:noindex
X-PUBLISHED-TTL:PT1H
BEGIN:VTIMEZONE
TZID:Europe/Paris
BEGIN:DAYLIGHT
TZOFFSETFROM:+0100
TZOFFSETTO:+0200
TZNAME:CEST
DTSTART:20240331T010000
END:DAYLIGHT
BEGIN:STANDARD
TZOFFSETFROM:+0200
TZOFFSETTO:+0100
TZNAME:CET
DTSTART:20241027T010000
END:STANDARD
BEGIN:DAYLIGHT
TZOFFSETFROM:+0100
TZOFFSETTO:+0200
TZNAME:CEST
DTSTART:20250330T010000
END:DAYLIGHT
BEGIN:STANDARD
TZOFFSETFROM:+0200
TZOFFSETTO:+0100
TZNAME:CET
DTSTART:20251026T010000
END:STANDARD
BEGIN:DAYLIGHT
TZOFFSETFROM:+0100
TZOFFSETTO:+0200
TZNAME:CEST
DTSTART:20260329T010000
END:DAYLIGHT
BEGIN:STANDARD
TZOFFSETFROM:+0200
TZOFFSETTO:+0100
TZNAME:CET
DTSTART:20261025T010000
END:STANDARD
END:VTIMEZONE
BEGIN:VEVENT
DTSTART;VALUE=DATE:20251004
DTEND;VALUE=DATE:20251005
DTSTAMP:20260422T030105
CREATED:20250509T160343Z
LAST-MODIFIED:20250612T084446Z
UID:10001838-1759536000-1759622399@circuit-pau-arnos.fr
SUMMARY:RUN & FURIOUS
DESCRIPTION:Pour les amateurs de course à pied : 1ère édition de la Run & Furious sur le circuit le samedi 4 octobre ! Un format unique et un mix de sport\, vitesse et adrénaline. \n3 formats : \n\n1 heure (Nitro)\n2 heures (Furious)\n3 heures (Endurance)\n\nEn solo ou en équipe\, objectif : faire le plus de kilomètres possible avant le drapeau à damier ! \nAu programme également : \n\nDJ set en live\nZone paddock pour chiller\nFood trucks sur place\n\n\n            \n            \n            plus d'informations
URL:https://circuit-pau-arnos.fr/event/run-and-furious/
LOCATION:Circuit PAU ARNOS\, Arnos\, 64048\, France
CATEGORIES:Circuit
ATTACH;FMTTYPE=image/avif:https://circuit-pau-arnos.fr/wp-content/uploads/2025/05/5b943c_b3ab6a618b9b47cb8274e2331b5425f4mv2.avif
END:VEVENT
END:VCALENDAR