BEGIN:VCALENDAR
VERSION:2.0
PRODID:-//Circuit Européen PAU ARNOS - ECPv6.15.13//NONSGML v1.0//EN
CALSCALE:GREGORIAN
METHOD:PUBLISH
X-ORIGINAL-URL:https://circuit-pau-arnos.fr
X-WR-CALDESC:Évènements pour Circuit Européen PAU ARNOS
REFRESH-INTERVAL;VALUE=DURATION:PT1H
X-Robots-Tag:noindex
X-PUBLISHED-TTL:PT1H
BEGIN:VTIMEZONE
TZID:Europe/Paris
BEGIN:DAYLIGHT
TZOFFSETFROM:+0100
TZOFFSETTO:+0200
TZNAME:CEST
DTSTART:20250330T010000
END:DAYLIGHT
BEGIN:STANDARD
TZOFFSETFROM:+0200
TZOFFSETTO:+0100
TZNAME:CET
DTSTART:20251026T010000
END:STANDARD
BEGIN:DAYLIGHT
TZOFFSETFROM:+0100
TZOFFSETTO:+0200
TZNAME:CEST
DTSTART:20260329T010000
END:DAYLIGHT
BEGIN:STANDARD
TZOFFSETFROM:+0200
TZOFFSETTO:+0100
TZNAME:CET
DTSTART:20261025T010000
END:STANDARD
BEGIN:DAYLIGHT
TZOFFSETFROM:+0100
TZOFFSETTO:+0200
TZNAME:CEST
DTSTART:20270328T010000
END:DAYLIGHT
BEGIN:STANDARD
TZOFFSETFROM:+0200
TZOFFSETTO:+0100
TZNAME:CET
DTSTART:20271031T010000
END:STANDARD
END:VTIMEZONE
BEGIN:VEVENT
DTSTART;VALUE=DATE:20260501
DTEND;VALUE=DATE:20260504
DTSTAMP:20260421T183146
CREATED:20251125T075245Z
LAST-MODIFIED:20260219T082026Z
UID:10002115-1777593600-1777852799@circuit-pau-arnos.fr
SUMMARY:WEEK END RACING CUP DUNLOP GP RACER
DESCRIPTION:plus d'informations
URL:https://circuit-pau-arnos.fr/event/week-end-racing-cup-dunlop-gp-racer-2026/
LOCATION:Circuit PAU ARNOS\, Arnos\, 64048\, France
CATEGORIES:Circuit
ATTACH;FMTTYPE=image/jpeg:https://circuit-pau-arnos.fr/wp-content/uploads/2025/11/582298528_18099111892772840_7768908878619012706_n.jpg
END:VEVENT
BEGIN:VEVENT
DTSTART;VALUE=DATE:20260508
DTEND;VALUE=DATE:20260509
DTSTAMP:20260421T183146
CREATED:20251205T090549Z
LAST-MODIFIED:20260219T082416Z
UID:10002158-1778198400-1778284799@circuit-pau-arnos.fr
SUMMARY:TOUR AUTO
DESCRIPTION:plus d'informations
URL:https://circuit-pau-arnos.fr/event/tour-auto-2026/
LOCATION:Circuit PAU ARNOS\, Arnos\, 64048\, France
CATEGORIES:Circuit
ATTACH;FMTTYPE=image/jpeg:https://circuit-pau-arnos.fr/wp-content/uploads/2025/12/Affiche-Tour-Auto-2026.jpg
END:VEVENT
BEGIN:VEVENT
DTSTART;VALUE=DATE:20260522
DTEND;VALUE=DATE:20260525
DTSTAMP:20260421T183146
CREATED:20251125T075626Z
LAST-MODIFIED:20260219T083455Z
UID:10002116-1779408000-1779667199@circuit-pau-arnos.fr
SUMMARY:TROPHÉE PAU ARNOS
DESCRIPTION:plus d'informations
URL:https://circuit-pau-arnos.fr/event/trophee-pau-arnos-2026/
LOCATION:Circuit PAU ARNOS\, Arnos\, 64048\, France
CATEGORIES:Circuit
ATTACH;FMTTYPE=image/jpeg:https://circuit-pau-arnos.fr/wp-content/uploads/2026/02/622004619_122110637355176893_8680569442009363019_n.jpg
END:VEVENT
END:VCALENDAR