BEGIN:VCALENDAR
VERSION:2.0
PRODID:-//Circuit Européen PAU ARNOS - ECPv6.15.13//NONSGML v1.0//EN
CALSCALE:GREGORIAN
METHOD:PUBLISH
X-WR-CALNAME:Circuit Européen PAU ARNOS
X-ORIGINAL-URL:https://circuit-pau-arnos.fr
X-WR-CALDESC:Évènements pour Circuit Européen PAU ARNOS
REFRESH-INTERVAL;VALUE=DURATION:PT1H
X-Robots-Tag:noindex
X-PUBLISHED-TTL:PT1H
BEGIN:VTIMEZONE
TZID:Europe/Paris
BEGIN:DAYLIGHT
TZOFFSETFROM:+0100
TZOFFSETTO:+0200
TZNAME:CEST
DTSTART:20250330T010000
END:DAYLIGHT
BEGIN:STANDARD
TZOFFSETFROM:+0200
TZOFFSETTO:+0100
TZNAME:CET
DTSTART:20251026T010000
END:STANDARD
BEGIN:DAYLIGHT
TZOFFSETFROM:+0100
TZOFFSETTO:+0200
TZNAME:CEST
DTSTART:20260329T010000
END:DAYLIGHT
BEGIN:STANDARD
TZOFFSETFROM:+0200
TZOFFSETTO:+0100
TZNAME:CET
DTSTART:20261025T010000
END:STANDARD
BEGIN:DAYLIGHT
TZOFFSETFROM:+0100
TZOFFSETTO:+0200
TZNAME:CEST
DTSTART:20270328T010000
END:DAYLIGHT
BEGIN:STANDARD
TZOFFSETFROM:+0200
TZOFFSETTO:+0100
TZNAME:CET
DTSTART:20271031T010000
END:STANDARD
END:VTIMEZONE
BEGIN:VEVENT
DTSTART;TZID=Europe/Paris:20260301T100000
DTEND;TZID=Europe/Paris:20260301T180000
DTSTAMP:20260423T120447
CREATED:20260221T082535Z
LAST-MODIFIED:20260221T082535Z
UID:10002251-1772359200-1772388000@circuit-pau-arnos.fr
SUMMARY:Karting Ouvert
DESCRIPTION:Circuit de karting OUVERT :\n10h00 -12h00 / 14h00-18h00 \nSur réservation au 05 59 77 18 70
URL:https://circuit-pau-arnos.fr/event/karting-ouvert-625/
LOCATION:Circuit PAU ARNOS\, Arnos\, 64048\, France
CATEGORIES:Karting
END:VEVENT
BEGIN:VEVENT
DTSTART;TZID=Europe/Paris:20260304T100000
DTEND;TZID=Europe/Paris:20260304T180000
DTSTAMP:20260423T120447
CREATED:20260221T081341Z
LAST-MODIFIED:20260221T081341Z
UID:10002248-1772618400-1772647200@circuit-pau-arnos.fr
SUMMARY:Karting Ouvert
DESCRIPTION:Circuit de karting OUVERT :\n10h00 -12h00 / 14h00-18h00 \nSur réservation au 05 59 77 18 70
URL:https://circuit-pau-arnos.fr/event/karting-ouvert-622/
LOCATION:Circuit PAU ARNOS\, Arnos\, 64048\, France
CATEGORIES:Karting
END:VEVENT
BEGIN:VEVENT
DTSTART;TZID=Europe/Paris:20260306T100000
DTEND;TZID=Europe/Paris:20260306T180000
DTSTAMP:20260423T120447
CREATED:20260221T081423Z
LAST-MODIFIED:20260221T081423Z
UID:10002250-1772791200-1772820000@circuit-pau-arnos.fr
SUMMARY:Karting Ouvert
DESCRIPTION:Circuit de karting OUVERT :\n10h00 -12h00 / 14h00-18h00 \nSur réservation au 05 59 77 18 70
URL:https://circuit-pau-arnos.fr/event/karting-ouvert-624/
LOCATION:Circuit PAU ARNOS\, Arnos\, 64048\, France
CATEGORIES:Karting
END:VEVENT
BEGIN:VEVENT
DTSTART;TZID=Europe/Paris:20260307T100000
DTEND;TZID=Europe/Paris:20260307T180000
DTSTAMP:20260423T120447
CREATED:20260221T082554Z
LAST-MODIFIED:20260221T082554Z
UID:10002252-1772877600-1772906400@circuit-pau-arnos.fr
SUMMARY:Karting Ouvert
DESCRIPTION:Circuit de karting OUVERT :\n10h00 -12h00 / 14h00-18h00 \nSur réservation au 05 59 77 18 70
URL:https://circuit-pau-arnos.fr/event/karting-ouvert-626/
LOCATION:Circuit PAU ARNOS\, Arnos\, 64048\, France
CATEGORIES:Karting
END:VEVENT
BEGIN:VEVENT
DTSTART;TZID=Europe/Paris:20260308T100000
DTEND;TZID=Europe/Paris:20260308T180000
DTSTAMP:20260423T120447
CREATED:20260221T082632Z
LAST-MODIFIED:20260221T082632Z
UID:10002253-1772964000-1772992800@circuit-pau-arnos.fr
SUMMARY:Karting Ouvert
DESCRIPTION:Circuit de karting OUVERT :\n10h00 -12h00 / 14h00-18h00 \nSur réservation au 05 59 77 18 70
URL:https://circuit-pau-arnos.fr/event/karting-ouvert-627/
LOCATION:Circuit PAU ARNOS\, Arnos\, 64048\, France
CATEGORIES:Karting
END:VEVENT
BEGIN:VEVENT
DTSTART;TZID=Europe/Paris:20260311T100000
DTEND;TZID=Europe/Paris:20260311T180000
DTSTAMP:20260423T120447
CREATED:20260221T082704Z
LAST-MODIFIED:20260221T082704Z
UID:10002254-1773223200-1773252000@circuit-pau-arnos.fr
SUMMARY:Karting Ouvert
DESCRIPTION:Circuit de karting OUVERT :\n10h00 -12h00 / 14h00-18h00 \nSur réservation au 05 59 77 18 70
URL:https://circuit-pau-arnos.fr/event/karting-ouvert-628/
LOCATION:Circuit PAU ARNOS\, Arnos\, 64048\, France
CATEGORIES:Karting
END:VEVENT
BEGIN:VEVENT
DTSTART;TZID=Europe/Paris:20260313T100000
DTEND;TZID=Europe/Paris:20260313T180000
DTSTAMP:20260423T120447
CREATED:20260221T082722Z
LAST-MODIFIED:20260221T082722Z
UID:10002255-1773396000-1773424800@circuit-pau-arnos.fr
SUMMARY:Karting Ouvert
DESCRIPTION:Circuit de karting OUVERT :\n10h00 -12h00 / 14h00-18h00 \nSur réservation au 05 59 77 18 70
URL:https://circuit-pau-arnos.fr/event/karting-ouvert-629/
LOCATION:Circuit PAU ARNOS\, Arnos\, 64048\, France
CATEGORIES:Karting
END:VEVENT
BEGIN:VEVENT
DTSTART;TZID=Europe/Paris:20260314T100000
DTEND;TZID=Europe/Paris:20260314T180000
DTSTAMP:20260423T120447
CREATED:20260221T082741Z
LAST-MODIFIED:20260221T082741Z
UID:10002256-1773482400-1773511200@circuit-pau-arnos.fr
SUMMARY:Karting Ouvert
DESCRIPTION:Circuit de karting OUVERT :\n10h00 -12h00 / 14h00-18h00 \nSur réservation au 05 59 77 18 70
URL:https://circuit-pau-arnos.fr/event/karting-ouvert-630/
LOCATION:Circuit PAU ARNOS\, Arnos\, 64048\, France
CATEGORIES:Karting
END:VEVENT
BEGIN:VEVENT
DTSTART;TZID=Europe/Paris:20260315T100000
DTEND;TZID=Europe/Paris:20260315T180000
DTSTAMP:20260423T120447
CREATED:20260221T082757Z
LAST-MODIFIED:20260221T082757Z
UID:10002257-1773568800-1773597600@circuit-pau-arnos.fr
SUMMARY:Karting Ouvert
DESCRIPTION:Circuit de karting OUVERT :\n10h00 -12h00 / 14h00-18h00 \nSur réservation au 05 59 77 18 70
URL:https://circuit-pau-arnos.fr/event/karting-ouvert-631/
LOCATION:Circuit PAU ARNOS\, Arnos\, 64048\, France
CATEGORIES:Karting
END:VEVENT
BEGIN:VEVENT
DTSTART;VALUE=DATE:20260318
DTEND;VALUE=DATE:20260319
DTSTAMP:20260423T120447
CREATED:20260221T083232Z
LAST-MODIFIED:20260221T083232Z
UID:10002267-1773792000-1773878399@circuit-pau-arnos.fr
SUMMARY:KARTING FERMÉ
DESCRIPTION:
URL:https://circuit-pau-arnos.fr/event/karting-ferme-122/
LOCATION:Circuit PAU ARNOS\, Arnos\, 64048\, France
CATEGORIES:Karting
END:VEVENT
BEGIN:VEVENT
DTSTART;TZID=Europe/Paris:20260320T100000
DTEND;TZID=Europe/Paris:20260320T180000
DTSTAMP:20260423T120447
CREATED:20260221T082854Z
LAST-MODIFIED:20260221T082854Z
UID:10002259-1774000800-1774029600@circuit-pau-arnos.fr
SUMMARY:Karting Ouvert
DESCRIPTION:Circuit de karting OUVERT :\n10h00 -12h00 / 14h00-18h00 \nSur réservation au 05 59 77 18 70
URL:https://circuit-pau-arnos.fr/event/karting-ouvert-633/
LOCATION:Circuit PAU ARNOS\, Arnos\, 64048\, France
CATEGORIES:Karting
END:VEVENT
BEGIN:VEVENT
DTSTART;TZID=Europe/Paris:20260321T100000
DTEND;TZID=Europe/Paris:20260321T180000
DTSTAMP:20260423T120447
CREATED:20260221T082908Z
LAST-MODIFIED:20260221T082908Z
UID:10002260-1774087200-1774116000@circuit-pau-arnos.fr
SUMMARY:Karting Ouvert
DESCRIPTION:Circuit de karting OUVERT :\n10h00 -12h00 / 14h00-18h00 \nSur réservation au 05 59 77 18 70
URL:https://circuit-pau-arnos.fr/event/karting-ouvert-634/
LOCATION:Circuit PAU ARNOS\, Arnos\, 64048\, France
CATEGORIES:Karting
END:VEVENT
BEGIN:VEVENT
DTSTART;TZID=Europe/Paris:20260322T100000
DTEND;TZID=Europe/Paris:20260322T180000
DTSTAMP:20260423T120447
CREATED:20260221T082927Z
LAST-MODIFIED:20260221T082927Z
UID:10002261-1774173600-1774202400@circuit-pau-arnos.fr
SUMMARY:Karting Ouvert
DESCRIPTION:Circuit de karting OUVERT :\n10h00 -12h00 / 14h00-18h00 \nSur réservation au 05 59 77 18 70
URL:https://circuit-pau-arnos.fr/event/karting-ouvert-635/
LOCATION:Circuit PAU ARNOS\, Arnos\, 64048\, France
CATEGORIES:Karting
END:VEVENT
BEGIN:VEVENT
DTSTART;TZID=Europe/Paris:20260325T100000
DTEND;TZID=Europe/Paris:20260325T180000
DTSTAMP:20260423T120447
CREATED:20260221T083014Z
LAST-MODIFIED:20260221T083014Z
UID:10002262-1774432800-1774461600@circuit-pau-arnos.fr
SUMMARY:Karting Ouvert
DESCRIPTION:Circuit de karting OUVERT :\n10h00 -12h00 / 14h00-18h00 \nSur réservation au 05 59 77 18 70
URL:https://circuit-pau-arnos.fr/event/karting-ouvert-636/
LOCATION:Circuit PAU ARNOS\, Arnos\, 64048\, France
CATEGORIES:Karting
END:VEVENT
BEGIN:VEVENT
DTSTART;TZID=Europe/Paris:20260327T100000
DTEND;TZID=Europe/Paris:20260327T180000
DTSTAMP:20260423T120447
CREATED:20260221T083119Z
LAST-MODIFIED:20260221T083119Z
UID:10002264-1774605600-1774634400@circuit-pau-arnos.fr
SUMMARY:Karting Ouvert
DESCRIPTION:Circuit de karting OUVERT :\n10h00 -12h00 / 14h00-18h00 \nSur réservation au 05 59 77 18 70
URL:https://circuit-pau-arnos.fr/event/karting-ouvert-638/
LOCATION:Circuit PAU ARNOS\, Arnos\, 64048\, France
CATEGORIES:Karting
END:VEVENT
BEGIN:VEVENT
DTSTART;TZID=Europe/Paris:20260328T100000
DTEND;TZID=Europe/Paris:20260328T180000
DTSTAMP:20260423T120447
CREATED:20260221T083134Z
LAST-MODIFIED:20260221T083134Z
UID:10002265-1774692000-1774720800@circuit-pau-arnos.fr
SUMMARY:Karting Ouvert
DESCRIPTION:Circuit de karting OUVERT :\n10h00 -12h00 / 14h00-18h00 \nSur réservation au 05 59 77 18 70
URL:https://circuit-pau-arnos.fr/event/karting-ouvert-639/
LOCATION:Circuit PAU ARNOS\, Arnos\, 64048\, France
CATEGORIES:Karting
END:VEVENT
BEGIN:VEVENT
DTSTART;TZID=Europe/Paris:20260329T100000
DTEND;TZID=Europe/Paris:20260329T180000
DTSTAMP:20260423T120447
CREATED:20260221T083149Z
LAST-MODIFIED:20260221T083149Z
UID:10002266-1774778400-1774807200@circuit-pau-arnos.fr
SUMMARY:Karting Ouvert
DESCRIPTION:Circuit de karting OUVERT :\n10h00 -12h00 / 14h00-18h00 \nSur réservation au 05 59 77 18 70
URL:https://circuit-pau-arnos.fr/event/karting-ouvert-640/
LOCATION:Circuit PAU ARNOS\, Arnos\, 64048\, France
CATEGORIES:Karting
END:VEVENT
END:VCALENDAR