BEGIN:VCALENDAR
VERSION:2.0
PRODID:-//Circuit Européen PAU ARNOS - ECPv6.15.13//NONSGML v1.0//EN
CALSCALE:GREGORIAN
METHOD:PUBLISH
X-WR-CALNAME:Circuit Européen PAU ARNOS
X-ORIGINAL-URL:https://circuit-pau-arnos.fr
X-WR-CALDESC:Évènements pour Circuit Européen PAU ARNOS
REFRESH-INTERVAL;VALUE=DURATION:PT1H
X-Robots-Tag:noindex
X-PUBLISHED-TTL:PT1H
BEGIN:VTIMEZONE
TZID:Europe/Paris
BEGIN:DAYLIGHT
TZOFFSETFROM:+0100
TZOFFSETTO:+0200
TZNAME:CEST
DTSTART:20250330T010000
END:DAYLIGHT
BEGIN:STANDARD
TZOFFSETFROM:+0200
TZOFFSETTO:+0100
TZNAME:CET
DTSTART:20251026T010000
END:STANDARD
BEGIN:DAYLIGHT
TZOFFSETFROM:+0100
TZOFFSETTO:+0200
TZNAME:CEST
DTSTART:20260329T010000
END:DAYLIGHT
BEGIN:STANDARD
TZOFFSETFROM:+0200
TZOFFSETTO:+0100
TZNAME:CET
DTSTART:20261025T010000
END:STANDARD
BEGIN:DAYLIGHT
TZOFFSETFROM:+0100
TZOFFSETTO:+0200
TZNAME:CEST
DTSTART:20270328T010000
END:DAYLIGHT
BEGIN:STANDARD
TZOFFSETFROM:+0200
TZOFFSETTO:+0100
TZNAME:CET
DTSTART:20271031T010000
END:STANDARD
END:VTIMEZONE
BEGIN:VEVENT
DTSTART;VALUE=DATE:20260815
DTEND;VALUE=DATE:20260816
DTSTAMP:20260423T170258
CREATED:20251212T132916Z
LAST-MODIFIED:20251212T132916Z
UID:10002171-1786752000-1786838399@circuit-pau-arnos.fr
SUMMARY:KARTING FERMÉ
DESCRIPTION:
URL:https://circuit-pau-arnos.fr/event/karting-ferme-114/
LOCATION:Circuit PAU ARNOS\, Arnos\, 64048\, France
CATEGORIES:Karting
END:VEVENT
BEGIN:VEVENT
DTSTART;VALUE=DATE:20260822
DTEND;VALUE=DATE:20260823
DTSTAMP:20260423T170258
CREATED:20251212T132818Z
LAST-MODIFIED:20251212T132818Z
UID:10002168-1787356800-1787443199@circuit-pau-arnos.fr
SUMMARY:KARTING FERMÉ
DESCRIPTION:
URL:https://circuit-pau-arnos.fr/event/karting-ferme-111/
LOCATION:Circuit PAU ARNOS\, Arnos\, 64048\, France
CATEGORIES:Karting
END:VEVENT
END:VCALENDAR