BEGIN:VCALENDAR
VERSION:2.0
PRODID:-//Circuit Européen PAU ARNOS - ECPv6.15.13//NONSGML v1.0//EN
CALSCALE:GREGORIAN
METHOD:PUBLISH
X-ORIGINAL-URL:https://circuit-pau-arnos.fr
X-WR-CALDESC:Évènements pour Circuit Européen PAU ARNOS
REFRESH-INTERVAL;VALUE=DURATION:PT1H
X-Robots-Tag:noindex
X-PUBLISHED-TTL:PT1H
BEGIN:VTIMEZONE
TZID:Europe/Paris
BEGIN:DAYLIGHT
TZOFFSETFROM:+0100
TZOFFSETTO:+0200
TZNAME:CEST
DTSTART:20240331T010000
END:DAYLIGHT
BEGIN:STANDARD
TZOFFSETFROM:+0200
TZOFFSETTO:+0100
TZNAME:CET
DTSTART:20241027T010000
END:STANDARD
BEGIN:DAYLIGHT
TZOFFSETFROM:+0100
TZOFFSETTO:+0200
TZNAME:CEST
DTSTART:20250330T010000
END:DAYLIGHT
BEGIN:STANDARD
TZOFFSETFROM:+0200
TZOFFSETTO:+0100
TZNAME:CET
DTSTART:20251026T010000
END:STANDARD
BEGIN:DAYLIGHT
TZOFFSETFROM:+0100
TZOFFSETTO:+0200
TZNAME:CEST
DTSTART:20260329T010000
END:DAYLIGHT
BEGIN:STANDARD
TZOFFSETFROM:+0200
TZOFFSETTO:+0100
TZNAME:CET
DTSTART:20261025T010000
END:STANDARD
END:VTIMEZONE
BEGIN:VEVENT
DTSTART;TZID=Europe/Paris:20250511T100000
DTEND;TZID=Europe/Paris:20250511T180000
DTSTAMP:20260422T194817
CREATED:20250420T083506Z
LAST-MODIFIED:20250420T083506Z
UID:10001800-1746957600-1746986400@circuit-pau-arnos.fr
SUMMARY:Karting Ouvert
DESCRIPTION:Circuit de karting OUVERT :\n10h00 -12h00 / 14h00-18h00
URL:https://circuit-pau-arnos.fr/event/karting-ouvert-427/
LOCATION:Circuit PAU ARNOS\, Arnos\, 64048\, France
CATEGORIES:Karting
END:VEVENT
BEGIN:VEVENT
DTSTART;TZID=Europe/Paris:20250514T100000
DTEND;TZID=Europe/Paris:20250514T180000
DTSTAMP:20260422T194817
CREATED:20250420T083524Z
LAST-MODIFIED:20250420T083524Z
UID:10001801-1747216800-1747245600@circuit-pau-arnos.fr
SUMMARY:Karting Ouvert
DESCRIPTION:Circuit de karting OUVERT :\n10h00 -12h00 / 14h00-18h00
URL:https://circuit-pau-arnos.fr/event/karting-ouvert-428/
LOCATION:Circuit PAU ARNOS\, Arnos\, 64048\, France
CATEGORIES:Karting
END:VEVENT
BEGIN:VEVENT
DTSTART;TZID=Europe/Paris:20250515T100000
DTEND;TZID=Europe/Paris:20250515T180000
DTSTAMP:20260422T194817
CREATED:20250420T083541Z
LAST-MODIFIED:20250420T083541Z
UID:10001802-1747303200-1747332000@circuit-pau-arnos.fr
SUMMARY:Karting Ouvert
DESCRIPTION:Circuit de karting OUVERT :\n10h00 -12h00 / 14h00-18h00
URL:https://circuit-pau-arnos.fr/event/karting-ouvert-429/
LOCATION:Circuit PAU ARNOS\, Arnos\, 64048\, France
CATEGORIES:Karting
END:VEVENT
BEGIN:VEVENT
DTSTART;TZID=Europe/Paris:20250516T100000
DTEND;TZID=Europe/Paris:20250516T180000
DTSTAMP:20260422T194817
CREATED:20250420T083558Z
LAST-MODIFIED:20250420T083558Z
UID:10001803-1747389600-1747418400@circuit-pau-arnos.fr
SUMMARY:Karting Ouvert
DESCRIPTION:Circuit de karting OUVERT :\n10h00 -12h00 / 14h00-18h00
URL:https://circuit-pau-arnos.fr/event/karting-ouvert-430/
LOCATION:Circuit PAU ARNOS\, Arnos\, 64048\, France
CATEGORIES:Karting
END:VEVENT
BEGIN:VEVENT
DTSTART;TZID=Europe/Paris:20250517T100000
DTEND;TZID=Europe/Paris:20250517T180000
DTSTAMP:20260422T194817
CREATED:20250420T083615Z
LAST-MODIFIED:20250420T083615Z
UID:10001804-1747476000-1747504800@circuit-pau-arnos.fr
SUMMARY:Karting Ouvert
DESCRIPTION:Circuit de karting OUVERT :\n10h00 -12h00 / 14h00-18h00
URL:https://circuit-pau-arnos.fr/event/karting-ouvert-431/
LOCATION:Circuit PAU ARNOS\, Arnos\, 64048\, France
CATEGORIES:Karting
END:VEVENT
BEGIN:VEVENT
DTSTART;TZID=Europe/Paris:20250518T100000
DTEND;TZID=Europe/Paris:20250518T180000
DTSTAMP:20260422T194817
CREATED:20250420T083633Z
LAST-MODIFIED:20250420T083633Z
UID:10001805-1747562400-1747591200@circuit-pau-arnos.fr
SUMMARY:Karting Ouvert
DESCRIPTION:Circuit de karting OUVERT :\n10h00 -12h00 / 14h00-18h00
URL:https://circuit-pau-arnos.fr/event/karting-ouvert-432/
LOCATION:Circuit PAU ARNOS\, Arnos\, 64048\, France
CATEGORIES:Karting
END:VEVENT
BEGIN:VEVENT
DTSTART;TZID=Europe/Paris:20250521T100000
DTEND;TZID=Europe/Paris:20250521T180000
DTSTAMP:20260422T194817
CREATED:20250420T083649Z
LAST-MODIFIED:20250420T083649Z
UID:10001806-1747821600-1747850400@circuit-pau-arnos.fr
SUMMARY:Karting Ouvert
DESCRIPTION:Circuit de karting OUVERT :\n10h00 -12h00 / 14h00-18h00
URL:https://circuit-pau-arnos.fr/event/karting-ouvert-433/
LOCATION:Circuit PAU ARNOS\, Arnos\, 64048\, France
CATEGORIES:Karting
END:VEVENT
BEGIN:VEVENT
DTSTART;TZID=Europe/Paris:20250522T100000
DTEND;TZID=Europe/Paris:20250522T180000
DTSTAMP:20260422T194817
CREATED:20250420T083706Z
LAST-MODIFIED:20250420T083706Z
UID:10001807-1747908000-1747936800@circuit-pau-arnos.fr
SUMMARY:Karting Ouvert
DESCRIPTION:Circuit de karting OUVERT :\n10h00 -12h00 / 14h00-18h00
URL:https://circuit-pau-arnos.fr/event/karting-ouvert-434/
LOCATION:Circuit PAU ARNOS\, Arnos\, 64048\, France
CATEGORIES:Karting
END:VEVENT
BEGIN:VEVENT
DTSTART;TZID=Europe/Paris:20250523T100000
DTEND;TZID=Europe/Paris:20250523T180000
DTSTAMP:20260422T194817
CREATED:20250420T083723Z
LAST-MODIFIED:20250420T083723Z
UID:10001808-1747994400-1748023200@circuit-pau-arnos.fr
SUMMARY:Karting Ouvert
DESCRIPTION:Circuit de karting OUVERT :\n10h00 -12h00 / 14h00-18h00
URL:https://circuit-pau-arnos.fr/event/karting-ouvert-435/
LOCATION:Circuit PAU ARNOS\, Arnos\, 64048\, France
CATEGORIES:Karting
END:VEVENT
BEGIN:VEVENT
DTSTART;TZID=Europe/Paris:20250524T100000
DTEND;TZID=Europe/Paris:20250524T180000
DTSTAMP:20260422T194817
CREATED:20250420T083743Z
LAST-MODIFIED:20250420T083743Z
UID:10001809-1748080800-1748109600@circuit-pau-arnos.fr
SUMMARY:Karting Ouvert
DESCRIPTION:Circuit de karting OUVERT :\n10h00 -12h00 / 14h00-18h00
URL:https://circuit-pau-arnos.fr/event/karting-ouvert-436/
LOCATION:Circuit PAU ARNOS\, Arnos\, 64048\, France
CATEGORIES:Karting
END:VEVENT
BEGIN:VEVENT
DTSTART;TZID=Europe/Paris:20250525T100000
DTEND;TZID=Europe/Paris:20250525T180000
DTSTAMP:20260422T194817
CREATED:20250420T083806Z
LAST-MODIFIED:20250420T083806Z
UID:10001810-1748167200-1748196000@circuit-pau-arnos.fr
SUMMARY:Karting Ouvert
DESCRIPTION:Circuit de karting OUVERT :\n10h00 -12h00 / 14h00-18h00
URL:https://circuit-pau-arnos.fr/event/karting-ouvert-437/
LOCATION:Circuit PAU ARNOS\, Arnos\, 64048\, France
CATEGORIES:Karting
END:VEVENT
BEGIN:VEVENT
DTSTART;TZID=Europe/Paris:20250529T100000
DTEND;TZID=Europe/Paris:20250529T180000
DTSTAMP:20260422T194817
CREATED:20250420T083845Z
LAST-MODIFIED:20250420T083845Z
UID:10001812-1748512800-1748541600@circuit-pau-arnos.fr
SUMMARY:Karting Ouvert
DESCRIPTION:Circuit de karting OUVERT :\n10h00 -12h00 / 14h00-18h00
URL:https://circuit-pau-arnos.fr/event/karting-ouvert-439/
LOCATION:Circuit PAU ARNOS\, Arnos\, 64048\, France
CATEGORIES:Karting
END:VEVENT
BEGIN:VEVENT
DTSTART;TZID=Europe/Paris:20250530T100000
DTEND;TZID=Europe/Paris:20250530T180000
DTSTAMP:20260422T194817
CREATED:20250420T083906Z
LAST-MODIFIED:20250420T083906Z
UID:10001813-1748599200-1748628000@circuit-pau-arnos.fr
SUMMARY:Karting Ouvert
DESCRIPTION:Circuit de karting OUVERT :\n10h00 -12h00 / 14h00-18h00
URL:https://circuit-pau-arnos.fr/event/karting-ouvert-440/
LOCATION:Circuit PAU ARNOS\, Arnos\, 64048\, France
CATEGORIES:Karting
END:VEVENT
BEGIN:VEVENT
DTSTART;TZID=Europe/Paris:20250531T100000
DTEND;TZID=Europe/Paris:20250531T180000
DTSTAMP:20260422T194817
CREATED:20250420T083922Z
LAST-MODIFIED:20250420T083922Z
UID:10001814-1748685600-1748714400@circuit-pau-arnos.fr
SUMMARY:Karting Ouvert
DESCRIPTION:Circuit de karting OUVERT :\n10h00 -12h00 / 14h00-18h00
URL:https://circuit-pau-arnos.fr/event/karting-ouvert-441/
LOCATION:Circuit PAU ARNOS\, Arnos\, 64048\, France
CATEGORIES:Karting
END:VEVENT
BEGIN:VEVENT
DTSTART;TZID=Europe/Paris:20250601T100000
DTEND;TZID=Europe/Paris:20250601T180000
DTSTAMP:20260422T194817
CREATED:20250527T070721Z
LAST-MODIFIED:20250527T070721Z
UID:10001841-1748772000-1748800800@circuit-pau-arnos.fr
SUMMARY:Karting Ouvert
DESCRIPTION:Circuit de karting OUVERT :\n10h00 -12h00 / 14h00-18h00
URL:https://circuit-pau-arnos.fr/event/karting-ouvert-438/
LOCATION:Circuit PAU ARNOS\, Arnos\, 64048\, France
CATEGORIES:Karting
END:VEVENT
BEGIN:VEVENT
DTSTART;TZID=Europe/Paris:20250604T100000
DTEND;TZID=Europe/Paris:20250604T180000
DTSTAMP:20260422T194817
CREATED:20250527T070739Z
LAST-MODIFIED:20250527T070739Z
UID:10001842-1749031200-1749060000@circuit-pau-arnos.fr
SUMMARY:Karting Ouvert
DESCRIPTION:Circuit de karting OUVERT :\n10h00 -12h00 / 14h00-18h00
URL:https://circuit-pau-arnos.fr/event/karting-ouvert-443/
LOCATION:Circuit PAU ARNOS\, Arnos\, 64048\, France
CATEGORIES:Karting
END:VEVENT
BEGIN:VEVENT
DTSTART;TZID=Europe/Paris:20250605T100000
DTEND;TZID=Europe/Paris:20250605T180000
DTSTAMP:20260422T194817
CREATED:20250527T070754Z
LAST-MODIFIED:20250527T070754Z
UID:10001843-1749117600-1749146400@circuit-pau-arnos.fr
SUMMARY:Karting Ouvert
DESCRIPTION:Circuit de karting OUVERT :\n10h00 -12h00 / 14h00-18h00
URL:https://circuit-pau-arnos.fr/event/karting-ouvert-444/
LOCATION:Circuit PAU ARNOS\, Arnos\, 64048\, France
CATEGORIES:Karting
END:VEVENT
BEGIN:VEVENT
DTSTART;TZID=Europe/Paris:20250606T100000
DTEND;TZID=Europe/Paris:20250606T180000
DTSTAMP:20260422T194817
CREATED:20250527T070818Z
LAST-MODIFIED:20250527T070818Z
UID:10001844-1749204000-1749232800@circuit-pau-arnos.fr
SUMMARY:Karting Ouvert
DESCRIPTION:Circuit de karting OUVERT :\n10h00 -12h00 / 14h00-18h00
URL:https://circuit-pau-arnos.fr/event/karting-ouvert-445/
LOCATION:Circuit PAU ARNOS\, Arnos\, 64048\, France
CATEGORIES:Karting
END:VEVENT
BEGIN:VEVENT
DTSTART;TZID=Europe/Paris:20250607T100000
DTEND;TZID=Europe/Paris:20250607T180000
DTSTAMP:20260422T194817
CREATED:20250527T070842Z
LAST-MODIFIED:20250527T070842Z
UID:10001845-1749290400-1749319200@circuit-pau-arnos.fr
SUMMARY:Karting Ouvert
DESCRIPTION:Circuit de karting OUVERT :\n10h00 -12h00 / 14h00-18h00
URL:https://circuit-pau-arnos.fr/event/karting-ouvert-446/
LOCATION:Circuit PAU ARNOS\, Arnos\, 64048\, France
CATEGORIES:Karting
END:VEVENT
BEGIN:VEVENT
DTSTART;TZID=Europe/Paris:20250608T100000
DTEND;TZID=Europe/Paris:20250608T180000
DTSTAMP:20260422T194817
CREATED:20250527T071028Z
LAST-MODIFIED:20250527T071028Z
UID:10001846-1749376800-1749405600@circuit-pau-arnos.fr
SUMMARY:Karting Ouvert
DESCRIPTION:Circuit de karting OUVERT :\n10h00 -12h00 / 14h00-18h00
URL:https://circuit-pau-arnos.fr/event/karting-ouvert-447/
LOCATION:Circuit PAU ARNOS\, Arnos\, 64048\, France
CATEGORIES:Karting
END:VEVENT
BEGIN:VEVENT
DTSTART;TZID=Europe/Paris:20250609T100000
DTEND;TZID=Europe/Paris:20250609T180000
DTSTAMP:20260422T194817
CREATED:20250527T071042Z
LAST-MODIFIED:20250527T071042Z
UID:10001847-1749463200-1749492000@circuit-pau-arnos.fr
SUMMARY:Karting Ouvert
DESCRIPTION:Circuit de karting OUVERT :\n10h00 -12h00 / 14h00-18h00
URL:https://circuit-pau-arnos.fr/event/karting-ouvert-448/
LOCATION:Circuit PAU ARNOS\, Arnos\, 64048\, France
CATEGORIES:Karting
END:VEVENT
BEGIN:VEVENT
DTSTART;TZID=Europe/Paris:20250611T100000
DTEND;TZID=Europe/Paris:20250611T180000
DTSTAMP:20260422T194817
CREATED:20250527T071100Z
LAST-MODIFIED:20250527T071100Z
UID:10001848-1749636000-1749664800@circuit-pau-arnos.fr
SUMMARY:Karting Ouvert
DESCRIPTION:Circuit de karting OUVERT :\n10h00 -12h00 / 14h00-18h00
URL:https://circuit-pau-arnos.fr/event/karting-ouvert-449/
LOCATION:Circuit PAU ARNOS\, Arnos\, 64048\, France
CATEGORIES:Karting
END:VEVENT
BEGIN:VEVENT
DTSTART;TZID=Europe/Paris:20250612T100000
DTEND;TZID=Europe/Paris:20250612T180000
DTSTAMP:20260422T194817
CREATED:20250527T071127Z
LAST-MODIFIED:20250527T071127Z
UID:10001849-1749722400-1749751200@circuit-pau-arnos.fr
SUMMARY:Karting Ouvert
DESCRIPTION:Circuit de karting OUVERT :\n10h00 -12h00 / 14h00-18h00
URL:https://circuit-pau-arnos.fr/event/karting-ouvert-450/
LOCATION:Circuit PAU ARNOS\, Arnos\, 64048\, France
CATEGORIES:Karting
END:VEVENT
BEGIN:VEVENT
DTSTART;TZID=Europe/Paris:20250613T100000
DTEND;TZID=Europe/Paris:20250613T180000
DTSTAMP:20260422T194817
CREATED:20250527T071141Z
LAST-MODIFIED:20250527T071141Z
UID:10001850-1749808800-1749837600@circuit-pau-arnos.fr
SUMMARY:Karting Ouvert
DESCRIPTION:Circuit de karting OUVERT :\n10h00 -12h00 / 14h00-18h00
URL:https://circuit-pau-arnos.fr/event/karting-ouvert-451/
LOCATION:Circuit PAU ARNOS\, Arnos\, 64048\, France
CATEGORIES:Karting
END:VEVENT
BEGIN:VEVENT
DTSTART;TZID=Europe/Paris:20250614T100000
DTEND;TZID=Europe/Paris:20250614T180000
DTSTAMP:20260422T194817
CREATED:20250527T071155Z
LAST-MODIFIED:20250527T071155Z
UID:10001851-1749895200-1749924000@circuit-pau-arnos.fr
SUMMARY:Karting Ouvert
DESCRIPTION:Circuit de karting OUVERT :\n10h00 -12h00 / 14h00-18h00
URL:https://circuit-pau-arnos.fr/event/karting-ouvert-452/
LOCATION:Circuit PAU ARNOS\, Arnos\, 64048\, France
CATEGORIES:Karting
END:VEVENT
BEGIN:VEVENT
DTSTART;TZID=Europe/Paris:20250615T100000
DTEND;TZID=Europe/Paris:20250615T180000
DTSTAMP:20260422T194817
CREATED:20250527T071209Z
LAST-MODIFIED:20250527T071209Z
UID:10001852-1749981600-1750010400@circuit-pau-arnos.fr
SUMMARY:Karting Ouvert
DESCRIPTION:Circuit de karting OUVERT :\n10h00 -12h00 / 14h00-18h00
URL:https://circuit-pau-arnos.fr/event/karting-ouvert-453/
LOCATION:Circuit PAU ARNOS\, Arnos\, 64048\, France
CATEGORIES:Karting
END:VEVENT
BEGIN:VEVENT
DTSTART;TZID=Europe/Paris:20250618T100000
DTEND;TZID=Europe/Paris:20250618T180000
DTSTAMP:20260422T194817
CREATED:20250527T071229Z
LAST-MODIFIED:20250527T071229Z
UID:10001853-1750240800-1750269600@circuit-pau-arnos.fr
SUMMARY:Karting Ouvert
DESCRIPTION:Circuit de karting OUVERT :\n10h00 -12h00 / 14h00-18h00
URL:https://circuit-pau-arnos.fr/event/karting-ouvert-454/
LOCATION:Circuit PAU ARNOS\, Arnos\, 64048\, France
CATEGORIES:Karting
END:VEVENT
BEGIN:VEVENT
DTSTART;TZID=Europe/Paris:20250619T100000
DTEND;TZID=Europe/Paris:20250619T180000
DTSTAMP:20260422T194817
CREATED:20250527T071253Z
LAST-MODIFIED:20250527T071253Z
UID:10001854-1750327200-1750356000@circuit-pau-arnos.fr
SUMMARY:Karting Ouvert
DESCRIPTION:Circuit de karting OUVERT :\n10h00 -12h00 / 14h00-18h00
URL:https://circuit-pau-arnos.fr/event/karting-ouvert-455/
LOCATION:Circuit PAU ARNOS\, Arnos\, 64048\, France
CATEGORIES:Karting
END:VEVENT
BEGIN:VEVENT
DTSTART;TZID=Europe/Paris:20250620T100000
DTEND;TZID=Europe/Paris:20250620T180000
DTSTAMP:20260422T194817
CREATED:20250527T071309Z
LAST-MODIFIED:20250527T071309Z
UID:10001855-1750413600-1750442400@circuit-pau-arnos.fr
SUMMARY:Karting Ouvert
DESCRIPTION:Circuit de karting OUVERT :\n10h00 -12h00 / 14h00-18h00
URL:https://circuit-pau-arnos.fr/event/karting-ouvert-456/
LOCATION:Circuit PAU ARNOS\, Arnos\, 64048\, France
CATEGORIES:Karting
END:VEVENT
BEGIN:VEVENT
DTSTART;TZID=Europe/Paris:20250621T100000
DTEND;TZID=Europe/Paris:20250621T180000
DTSTAMP:20260422T194817
CREATED:20250527T071324Z
LAST-MODIFIED:20250527T071324Z
UID:10001856-1750500000-1750528800@circuit-pau-arnos.fr
SUMMARY:Karting Ouvert
DESCRIPTION:Circuit de karting OUVERT :\n10h00 -12h00 / 14h00-18h00
URL:https://circuit-pau-arnos.fr/event/karting-ouvert-457/
LOCATION:Circuit PAU ARNOS\, Arnos\, 64048\, France
CATEGORIES:Karting
END:VEVENT
END:VCALENDAR