BEGIN:VCALENDAR
VERSION:2.0
PRODID:-//Circuit Européen PAU ARNOS - ECPv6.15.13//NONSGML v1.0//EN
CALSCALE:GREGORIAN
METHOD:PUBLISH
X-ORIGINAL-URL:https://circuit-pau-arnos.fr
X-WR-CALDESC:Évènements pour Circuit Européen PAU ARNOS
REFRESH-INTERVAL;VALUE=DURATION:PT1H
X-Robots-Tag:noindex
X-PUBLISHED-TTL:PT1H
BEGIN:VTIMEZONE
TZID:Europe/Paris
BEGIN:DAYLIGHT
TZOFFSETFROM:+0100
TZOFFSETTO:+0200
TZNAME:CEST
DTSTART:20230326T010000
END:DAYLIGHT
BEGIN:STANDARD
TZOFFSETFROM:+0200
TZOFFSETTO:+0100
TZNAME:CET
DTSTART:20231029T010000
END:STANDARD
BEGIN:DAYLIGHT
TZOFFSETFROM:+0100
TZOFFSETTO:+0200
TZNAME:CEST
DTSTART:20240331T010000
END:DAYLIGHT
BEGIN:STANDARD
TZOFFSETFROM:+0200
TZOFFSETTO:+0100
TZNAME:CET
DTSTART:20241027T010000
END:STANDARD
BEGIN:DAYLIGHT
TZOFFSETFROM:+0100
TZOFFSETTO:+0200
TZNAME:CEST
DTSTART:20250330T010000
END:DAYLIGHT
BEGIN:STANDARD
TZOFFSETFROM:+0200
TZOFFSETTO:+0100
TZNAME:CET
DTSTART:20251026T010000
END:STANDARD
END:VTIMEZONE
BEGIN:VEVENT
DTSTART;TZID=Europe/Paris:20241007T083000
DTEND;TZID=Europe/Paris:20241007T180000
DTSTAMP:20260424T111926
CREATED:20240802T082521Z
LAST-MODIFIED:20240802T082521Z
UID:10001397-1728289800-1728324000@circuit-pau-arnos.fr
SUMMARY:OPEN MOTO
DESCRIPTION:Sous réserve d’un minimum de 30 inscrits à J-3 (afin de réserver le service médical\, les commissaires …) \nRoulage par séries de niveau ( 6 x 20 minutes) \nCatégories : \nInitiation (temps supérieur à 1’36) / Intermédiaire (temps compris entre 1’36 et 1’32) \nConfirmé (temps compris entre 1’32 et 1’28) / Expert (temps inférieur à 1’28) \nHoraires de roulage : 8h30 -12h30 / 14h00-18h00 \nInscriptions :\n\nInscription obligatoire et paiement en ligne sur Engage Sports jusqu’à 16h00 la veille du roulage (sous réserve de places disponibles)\n\n\n            \n            \n            inscription\n	        \n            \n        \n    \nTarifs :\n\n80€ la demi-journée (3 x 20 minutes\, matinée ou après-midi)\n125€ la journée (6 x 20 minutes)\nCotisation annuelle au MCPA : 10€ à régler sur Engage Sports\n\n\n            \n            \n            Cotisation annuelle\n	        \n            \n        \n    \n\nArrivée la veille entre 19h00 et 22h00 : 10€ / pilote\n\nOuverture de l’accueil à 7h30 :\n\nPrésentation de votre Licence annuelle FFM en cours de validité ou de votre licence à la journée appelée « Pass Circuit » (Eco ou Vitesse)\, souscription sur le site internet de la FFM\n\n\n            \n            \n            Pass circuit\n	        \n            \n        \n    \nAvant de prendre la piste :\n\nObligation d’assister au briefing et de passer au contrôle sonomètre (maximum autorisé 102 dB)\n\nEquipement :\n\nCombinaison cuir ou deux pièces rattachables en cuir\nDorsale fortement recommandée\nCasque intégral\nGants et bottes montantes\n\nRèglement journées open moto : \n\n            \n            \n            Consulter
URL:https://circuit-pau-arnos.fr/event/open-moto-57/
LOCATION:Circuit PAU ARNOS\, Arnos\, 64048\, France
CATEGORIES:Moto
ATTACH;FMTTYPE=image/jpeg:https://circuit-pau-arnos.fr/wp-content/uploads/2023/02/roulagemoto-1.jpg
END:VEVENT
BEGIN:VEVENT
DTSTART;TZID=Europe/Paris:20241014T083000
DTEND;TZID=Europe/Paris:20241014T180000
DTSTAMP:20260424T111926
CREATED:20231207T171835Z
LAST-MODIFIED:20240802T082126Z
UID:10001127-1728894600-1728928800@circuit-pau-arnos.fr
SUMMARY:OPEN MOTO
DESCRIPTION:Sous réserve d’un minimum de 30 inscrits à J-3 (afin de réserver le service médical\, les commissaires …) \nRoulage par séries de niveau ( 6 x 20 minutes) \nCatégories : \nInitiation (temps supérieur à 1’36) / Intermédiaire (temps compris entre 1’36 et 1’32) \nConfirmé (temps compris entre 1’32 et 1’28) / Expert (temps inférieur à 1’28) \nHoraires de roulage : 8h30 -12h30 / 14h00-18h00 \nInscriptions :\n\nInscription obligatoire et paiement en ligne sur Engage Sports jusqu’à 16h00 la veille du roulage (sous réserve de places disponibles)\n\n\n            \n            \n            inscription\n	        \n            \n        \n    \nTarifs :\n\n80€ la demi-journée (3 x 20 minutes\, matinée ou après-midi)\n125€ la journée (6 x 20 minutes)\nCotisation annuelle au MCPA : 10€ à régler sur Engage Sports\n\n\n            \n            \n            Cotisation annuelle\n	        \n            \n        \n    \n\nArrivée la veille entre 19h00 et 22h00 : 10€ / pilote\n\nOuverture de l’accueil à 7h30 :\n\nPrésentation de votre Licence annuelle FFM en cours de validité ou de votre licence à la journée appelée « Pass Circuit » (Eco ou Vitesse)\, souscription sur le site internet de la FFM\n\n\n            \n            \n            Pass circuit\n	        \n            \n        \n    \nAvant de prendre la piste :\n\nObligation d’assister au briefing et de passer au contrôle sonomètre (maximum autorisé 102 dB)\n\nEquipement :\n\nCombinaison cuir ou deux pièces rattachables en cuir\nDorsale fortement recommandée\nCasque intégral\nGants et bottes montantes\n\nRèglement journées open moto : \n\n            \n            \n            Consulter
URL:https://circuit-pau-arnos.fr/event/open-moto-49/
LOCATION:Circuit PAU ARNOS\, Arnos\, 64048\, France
CATEGORIES:Moto
ATTACH;FMTTYPE=image/jpeg:https://circuit-pau-arnos.fr/wp-content/uploads/2023/02/roulagemoto-1.jpg
END:VEVENT
BEGIN:VEVENT
DTSTART;TZID=Europe/Paris:20241020T083000
DTEND;TZID=Europe/Paris:20241020T180000
DTSTAMP:20260424T111926
CREATED:20231203T155305Z
LAST-MODIFIED:20240802T082413Z
UID:10001090-1729413000-1729447200@circuit-pau-arnos.fr
SUMMARY:OPEN MOTO
DESCRIPTION:Sous réserve d’un minimum de 30 inscrits à J-3 (afin de réserver le service médical\, les commissaires …) \nRoulage par séries de niveau ( 6 x 20 minutes) \nCatégories : \nInitiation (temps supérieur à 1’36) / Intermédiaire (temps compris entre 1’36 et 1’32) \nConfirmé (temps compris entre 1’32 et 1’28) / Expert (temps inférieur à 1’28) \nHoraires de roulage : 8h30 -12h30 / 14h00-18h00 \nInscriptions :\n\nInscription obligatoire et paiement en ligne sur Engage Sports jusqu’à 16h00 la veille du roulage (sous réserve de places disponibles)\n\n\n            \n            \n            inscription\n	        \n            \n        \n    \nTarifs :\n\n80€ la demi-journée (3 x 20 minutes\, matinée ou après-midi)\n125€ la journée (6 x 20 minutes)\nCotisation annuelle au MCPA : 10€ à régler sur Engage Sports\n\n\n            \n            \n            Cotisation annuelle\n	        \n            \n        \n    \n\nArrivée la veille entre 19h00 et 22h00 : 10€ / pilote\n\nOuverture de l’accueil à 7h30 :\n\nPrésentation de votre Licence annuelle FFM en cours de validité ou de votre licence à la journée appelée « Pass Circuit » (Eco ou Vitesse)\, souscription sur le site internet de la FFM\n\n\n            \n            \n            Pass circuit\n	        \n            \n        \n    \nAvant de prendre la piste :\n\nObligation d’assister au briefing et de passer au contrôle sonomètre (maximum autorisé 102 dB)\n\nEquipement :\n\nCombinaison cuir ou deux pièces rattachables en cuir\nDorsale fortement recommandée\nCasque intégral\nGants et bottes montantes\n\nRèglement journées open moto : \n\n            \n            \n            Consulter
URL:https://circuit-pau-arnos.fr/event/open-moto-39/
LOCATION:Circuit PAU ARNOS\, Arnos\, 64048\, France
CATEGORIES:Moto
ATTACH;FMTTYPE=image/jpeg:https://circuit-pau-arnos.fr/wp-content/uploads/2023/02/roulagemoto-1.jpg
END:VEVENT
BEGIN:VEVENT
DTSTART;TZID=Europe/Paris:20241021T083000
DTEND;TZID=Europe/Paris:20241021T180000
DTSTAMP:20260424T111926
CREATED:20231207T171809Z
LAST-MODIFIED:20240802T082816Z
UID:10001126-1729499400-1729533600@circuit-pau-arnos.fr
SUMMARY:OPEN MOTO
DESCRIPTION:Sous réserve d’un minimum de 30 inscrits à J-3 (afin de réserver le service médical\, les commissaires …) \nRoulage par séries de niveau ( 6 x 20 minutes) \nCatégories : \nInitiation (temps supérieur à 1’36) / Intermédiaire (temps compris entre 1’36 et 1’32) \nConfirmé (temps compris entre 1’32 et 1’28) / Expert (temps inférieur à 1’28) \nHoraires de roulage : 8h30 -12h30 / 14h00-18h00 \nInscriptions :\n\nInscription obligatoire et paiement en ligne sur Engage Sports jusqu’à 16h00 la veille du roulage (sous réserve de places disponibles)\n\n\n            \n            \n            inscription \n	        \n            \n        \n    \nTarifs :\n\n80€ la demi-journée (3 x 20 minutes\, matinée ou après-midi)\n125€ la journée (6 x 20 minutes)\nCotisation annuelle au MCPA : 10€ à régler sur Engage Sports\n\n\n            \n            \n            Cotisation annuelle\n	        \n            \n        \n    \n\nArrivée la veille entre 19h00 et 22h00 : 10€ / pilote\n\nOuverture de l’accueil à 7h30 :\n\nPrésentation de votre Licence annuelle FFM en cours de validité ou de votre licence à la journée appelée « Pass Circuit » (Eco ou Vitesse)\, souscription sur le site internet de la FFM\n\n\n            \n            \n            Pass circuit\n	        \n            \n        \n    \nAvant de prendre la piste :\n\nObligation d’assister au briefing et de passer au contrôle sonomètre (maximum autorisé 102 dB)\n\nEquipement :\n\nCombinaison cuir ou deux pièces rattachables en cuir\nDorsale fortement recommandée\nCasque intégral\nGants et bottes montantes\n\nRèglement journées open moto : \n\n            \n            \n            Consulter
URL:https://circuit-pau-arnos.fr/event/open-moto-48/
LOCATION:Circuit PAU ARNOS\, Arnos\, 64048\, France
CATEGORIES:Moto
ATTACH;FMTTYPE=image/jpeg:https://circuit-pau-arnos.fr/wp-content/uploads/2023/02/roulagemoto-1.jpg
END:VEVENT
BEGIN:VEVENT
DTSTART;TZID=Europe/Paris:20241028T083000
DTEND;TZID=Europe/Paris:20241028T180000
DTSTAMP:20260424T111926
CREATED:20231203T155325Z
LAST-MODIFIED:20240802T083428Z
UID:10001091-1730104200-1730138400@circuit-pau-arnos.fr
SUMMARY:OPEN MOTO
DESCRIPTION:Sous réserve d’un minimum de 30 inscrits à J-3 (afin de réserver le service médical\, les commissaires …) \nRoulage par séries de niveau ( 6 x 20 minutes) \nCatégories : \nInitiation (temps supérieur à 1’36) / Intermédiaire (temps compris entre 1’36 et 1’32) \nConfirmé (temps compris entre 1’32 et 1’28) / Expert (temps inférieur à 1’28) \nHoraires de roulage : 8h30 -12h30 / 14h00-18h00 \nInscriptions :\n\nInscription obligatoire et paiement en ligne sur Engage Sports jusqu’à 16h00 la veille du roulage (sous réserve de places disponibles)\n\n\n            \n            \n            inscription\n	        \n            \n        \n    \nTarifs :\n\n80€ la demi-journée (3 x 20 minutes\, matinée ou après-midi)\n125€ la journée (6 x 20 minutes)\nCotisation annuelle au MCPA : 10€ à régler sur Engage Sports\n\n\n            \n            \n            Cotisation annuelle\n	        \n            \n        \n    \n\nArrivée la veille entre 19h00 et 22h00 : 10€ / pilote\n\nOuverture de l’accueil à 7h30 :\n\nPrésentation de votre Licence annuelle FFM en cours de validité ou de votre licence à la journée appelée « Pass Circuit » (Eco ou Vitesse)\, souscription sur le site internet de la FFM\n\n\n            \n            \n            Pass circuit\n	        \n            \n        \n    \nAvant de prendre la piste :\n\nObligation d’assister au briefing et de passer au contrôle sonomètre (maximum autorisé 102 dB)\n\nEquipement :\n\nCombinaison cuir ou deux pièces rattachables en cuir\nDorsale fortement recommandée\nCasque intégral\nGants et bottes montantes\n\nRèglement journées open moto : \n\n            \n            \n            Consulter
URL:https://circuit-pau-arnos.fr/event/open-moto-40/
LOCATION:Circuit PAU ARNOS\, Arnos\, 64048\, France
CATEGORIES:Moto
ATTACH;FMTTYPE=image/jpeg:https://circuit-pau-arnos.fr/wp-content/uploads/2023/02/roulagemoto-1.jpg
END:VEVENT
END:VCALENDAR