BEGIN:VCALENDAR
VERSION:2.0
PRODID:-//Circuit Européen PAU ARNOS - ECPv6.15.13//NONSGML v1.0//EN
CALSCALE:GREGORIAN
METHOD:PUBLISH
X-WR-CALNAME:Circuit Européen PAU ARNOS
X-ORIGINAL-URL:https://circuit-pau-arnos.fr
X-WR-CALDESC:Évènements pour Circuit Européen PAU ARNOS
REFRESH-INTERVAL;VALUE=DURATION:PT1H
X-Robots-Tag:noindex
X-PUBLISHED-TTL:PT1H
BEGIN:VTIMEZONE
TZID:Europe/Paris
BEGIN:DAYLIGHT
TZOFFSETFROM:+0100
TZOFFSETTO:+0200
TZNAME:CEST
DTSTART:20240331T010000
END:DAYLIGHT
BEGIN:STANDARD
TZOFFSETFROM:+0200
TZOFFSETTO:+0100
TZNAME:CET
DTSTART:20241027T010000
END:STANDARD
BEGIN:DAYLIGHT
TZOFFSETFROM:+0100
TZOFFSETTO:+0200
TZNAME:CEST
DTSTART:20250330T010000
END:DAYLIGHT
BEGIN:STANDARD
TZOFFSETFROM:+0200
TZOFFSETTO:+0100
TZNAME:CET
DTSTART:20251026T010000
END:STANDARD
BEGIN:DAYLIGHT
TZOFFSETFROM:+0100
TZOFFSETTO:+0200
TZNAME:CEST
DTSTART:20260329T010000
END:DAYLIGHT
BEGIN:STANDARD
TZOFFSETFROM:+0200
TZOFFSETTO:+0100
TZNAME:CET
DTSTART:20261025T010000
END:STANDARD
END:VTIMEZONE
BEGIN:VEVENT
DTSTART;TZID=Europe/Paris:20250707T083000
DTEND;TZID=Europe/Paris:20250707T180000
DTSTAMP:20260424T001521
CREATED:20241229T144802Z
LAST-MODIFIED:20250507T102629Z
UID:10001685-1751877000-1751911200@circuit-pau-arnos.fr
SUMMARY:OPEN MOTO  -  CONFIRMÉ ET EXPERT
DESCRIPTION:Sous réserve d’un minimum de 30 inscrits à J-3 (afin de réserver le service médical\, les commissaires …) \nRoulage par séries de niveau ( 6 x 20 minutes) – Catégories Confirmé (temps compris entre 1’35 et 1’30) et Expert (temps inférieur à 1’30) uniquement \n\n            \n            \n            consultez les horaires prévisionnels \n	        \n            \n        \n     \nInscriptions :\n\nInscription obligatoire et paiement en ligne sur Engage Sports jusqu’à 16h00 la veille du roulage (sous réserve de places disponibles)\n\n\n            \n            \n            inscriptions\n	        \n            \n        \n    \nTarifs :\n\n85€ la demi-journée (3 x 20 minutes\, matinée ou après-midi)\n130€ la journée (6 x 20 minutes)\nCotisation annuelle au MCPA : 10€ à régler sur Engage Sports\n\n\n            \n            \n            Cotisation annuelle\n	        \n            \n        \n    \n\nArrivée la veille entre 19h00 et 22h00 : 10€ / pilote\nLocation de box : 32m² : 40€ par jour / 84m² : 100€ par jour\n\nOuverture de l’accueil à 7h30 :\n\nPrésentation de votre Licence annuelle FFM en cours de validité ou de votre licence à la journée appelée « Pass Circuit » (Eco ou Vitesse)\, souscription sur le site internet de la FFM\n\n\n            \n            \n            Pass circuit\n	        \n            \n        \n    \nAvant de prendre la piste :\n\nObligation d’assister au briefing et de passer au contrôle sonomètre (maximum autorisé 102 dB)\n\nEquipement :\n\nCombinaison cuir ou deux pièces rattachables en cuir\nDorsale\, air-bag et protection pectorale fortement recommandés\nCasque intégral\nGants et bottes montantes\n\nRèglement journées open moto : \n\n            \n            \n            Consulter
URL:https://circuit-pau-arnos.fr/event/open-moto-7-juillet/
LOCATION:Circuit PAU ARNOS\, Arnos\, 64048\, France
CATEGORIES:Moto
ATTACH;FMTTYPE=image/jpeg:https://circuit-pau-arnos.fr/wp-content/uploads/2023/02/roulagemoto-1.jpg
END:VEVENT
BEGIN:VEVENT
DTSTART;TZID=Europe/Paris:20250721T083000
DTEND;TZID=Europe/Paris:20250721T180000
DTSTAMP:20260424T001521
CREATED:20241229T143958Z
LAST-MODIFIED:20250507T102944Z
UID:10001682-1753086600-1753120800@circuit-pau-arnos.fr
SUMMARY:OPEN MOTO  - INITIATION ET CONFIRMÉ
DESCRIPTION:Sous réserve d’un minimum de 30 inscrits à J-3 (afin de réserver le service médical\, les commissaires …) \nRoulage par séries de niveau ( 6 x 20 minutes) – Catégories Initiation (temps supérieur à 1’35) et Confirmé (temps compris entre 1’35 et 1’30) uniquement \n\n            \n            \n            consultez les horaires prévisionnels\n	        \n            \n        \n     \nInscriptions :\n\nInscription obligatoire et paiement en ligne sur Engage Sports jusqu’à 16h00 la veille du roulage (sous réserve de places disponibles)\n\n\n            \n            \n            inscriptions\n	        \n            \n        \n    \nTarifs :\n\n85€ la demi-journée (3 x 20 minutes\, matinée ou après-midi)\n130€ la journée (6 x 20 minutes)\nCotisation annuelle au MCPA : 10€ à régler sur Engage Sports\n\n\n            \n            \n            Cotisation annuelle\n	        \n            \n        \n    \n\nArrivée la veille entre 19h00 et 22h00 : 10€ / pilote\nLocation de box : 32m² : 40€ par jour / 84m² : 100€ par jour\n\nOuverture de l’accueil à 7h30 :\n\nPrésentation de votre Licence annuelle FFM en cours de validité ou de votre licence à la journée appelée « Pass Circuit » (Eco ou Vitesse)\, souscription sur le site internet de la FFM\n\n\n            \n            \n            Pass circuit\n	        \n            \n        \n    \nAvant de prendre la piste :\n\nObligation d’assister au briefing et de passer au contrôle sonomètre (maximum autorisé 102 dB)\n\nEquipement :\n\nCombinaison cuir ou deux pièces rattachables en cuir\nDorsale\, air-bag et protection pectorale fortement recommandés\nCasque intégral\nGants et bottes montantes\n\nRèglement journées open moto : \n\n            \n            \n            Consulter
URL:https://circuit-pau-arnos.fr/event/open-moto-21-juillet/
LOCATION:Circuit PAU ARNOS\, Arnos\, 64048\, France
CATEGORIES:Moto
ATTACH;FMTTYPE=image/jpeg:https://circuit-pau-arnos.fr/wp-content/uploads/2023/02/roulagemoto-1.jpg
END:VEVENT
BEGIN:VEVENT
DTSTART;TZID=Europe/Paris:20250728T083000
DTEND;TZID=Europe/Paris:20250728T180000
DTSTAMP:20260424T001521
CREATED:20241129T112024Z
LAST-MODIFIED:20250507T114025Z
UID:10001622-1753691400-1753725600@circuit-pau-arnos.fr
SUMMARY:OPEN MOTO
DESCRIPTION:Sous réserve d’un minimum de 30 inscrits à J-3 (afin de réserver le service médical\, les commissaires …) \nRoulage par séries de niveau ( 6 x 20 minutes) \nCatégories : \nInitiation (temps supérieur à 1’36) / Intermédiaire (temps compris entre 1’36 et 1’32) \nConfirmé (temps compris entre 1’32 et 1’28) / Expert (temps inférieur à 1’28) \nHoraires de roulage : 8h30 -12h30 / 14h00-18h00 \n\n            \n            \n            consultez les horaires prévisionnels \n	        \n            \n        \n    \nInscriptions :\n\nInscription obligatoire et paiement en ligne sur Engage Sports jusqu’à 16h00 la veille du roulage (sous réserve de places disponibles)\n\n\n            \n            \n            inscriptions\n	        \n            \n        \n    \nTarifs :\n\n85€ la demi-journée (3 x 20 minutes\, matinée ou après-midi)\n130€ la journée (6 x 20 minutes)\nCotisation annuelle au MCPA : 10€ à régler sur Engage Sports\n\n\n            \n            \n            Cotisation annuelle\n	        \n            \n        \n    \n\nArrivée la veille entre 19h00 et 22h00 : 10€ / pilote\nLocation de box : 32m² : 40€ par jour / 84m² : 100€ par jour\n\nOuverture de l’accueil à 7h30 :\n\nPrésentation de votre Licence annuelle FFM en cours de validité ou de votre licence à la journée appelée « Pass Circuit » (Eco ou Vitesse)\, souscription sur le site internet de la FFM\n\n\n            \n            \n            Pass circuit\n	        \n            \n        \n    \nAvant de prendre la piste :\n\nObligation d’assister au briefing et de passer au contrôle sonomètre (maximum autorisé 102 dB)\n\nEquipement :\n\nCombinaison cuir ou deux pièces rattachables en cuir\nDorsale\, air-bag et protection pectorale fortement recommandés\nCasque intégral\nGants et bottes montantes\n\nRèglement journées open moto : \n\n            \n            \n            Consulter
URL:https://circuit-pau-arnos.fr/event/open-moto-28-juillet/
LOCATION:Circuit PAU ARNOS\, Arnos\, 64048\, France
CATEGORIES:Moto
ATTACH;FMTTYPE=image/jpeg:https://circuit-pau-arnos.fr/wp-content/uploads/2023/02/roulagemoto-1.jpg
END:VEVENT
END:VCALENDAR