BEGIN:VCALENDAR
VERSION:2.0
PRODID:-//Circuit Européen PAU ARNOS - ECPv6.15.13//NONSGML v1.0//EN
CALSCALE:GREGORIAN
METHOD:PUBLISH
X-ORIGINAL-URL:https://circuit-pau-arnos.fr
X-WR-CALDESC:Évènements pour Circuit Européen PAU ARNOS
REFRESH-INTERVAL;VALUE=DURATION:PT1H
X-Robots-Tag:noindex
X-PUBLISHED-TTL:PT1H
BEGIN:VTIMEZONE
TZID:Europe/Paris
BEGIN:DAYLIGHT
TZOFFSETFROM:+0100
TZOFFSETTO:+0200
TZNAME:CEST
DTSTART:20250330T010000
END:DAYLIGHT
BEGIN:STANDARD
TZOFFSETFROM:+0200
TZOFFSETTO:+0100
TZNAME:CET
DTSTART:20251026T010000
END:STANDARD
BEGIN:DAYLIGHT
TZOFFSETFROM:+0100
TZOFFSETTO:+0200
TZNAME:CEST
DTSTART:20260329T010000
END:DAYLIGHT
BEGIN:STANDARD
TZOFFSETFROM:+0200
TZOFFSETTO:+0100
TZNAME:CET
DTSTART:20261025T010000
END:STANDARD
BEGIN:DAYLIGHT
TZOFFSETFROM:+0100
TZOFFSETTO:+0200
TZNAME:CEST
DTSTART:20270328T010000
END:DAYLIGHT
BEGIN:STANDARD
TZOFFSETFROM:+0200
TZOFFSETTO:+0100
TZNAME:CET
DTSTART:20271031T010000
END:STANDARD
END:VTIMEZONE
BEGIN:VEVENT
DTSTART;TZID=Europe/Paris:20260504T083000
DTEND;TZID=Europe/Paris:20260504T180000
DTSTAMP:20260423T120758
CREATED:20251125T094017Z
LAST-MODIFIED:20260305T080449Z
UID:10002130-1777883400-1777917600@circuit-pau-arnos.fr
SUMMARY:OPEN MOTO
DESCRIPTION:Sous réserve d’un minimum de 30 inscrits à J-3 (afin de réserver le service médical\, les commissaires …) \nRoulage par séries de niveau ( 6 x 20 minutes) \nCatégories : \nInitiation (temps supérieur à 1’36) / Intermédiaire (temps compris entre 1’36 et 1’32) \nConfirmé (temps compris entre 1’32 et 1’28) / Expert (temps inférieur à 1’28) \nHoraires de roulage : 8h30 -12h30 / 14h00-18h00 \n\n            \n            \n            consultez les horaires prévisionnels \n	        \n            \n        \n    \nInscriptions :\n\nInscription obligatoire et paiement en ligne sur Engage Sports jusqu’à 16h00 la veille du roulage (sous réserve de places disponibles)\n\n\n            \n            \n            inscriptions\n	        \n            \n        \n    \nTarifs :\n\n85€ la demi-journée (3 x 20 minutes\, matinée ou après-midi)\n130€ la journée (6 x 20 minutes)\nCotisation annuelle au MCPA : 10€ à régler sur Engage Sports\n\n\n            \n            \n            Cotisation annuelle\n	        \n            \n        \n    \n\nArrivée la veille entre 19h00 et 22h00 : 10€ / pilote\nLocation de box : 32m² : 40€ par jour / 84m² : 100€ par jour\n\nOuverture de l’accueil à 7h30 :\n\nPrésentation de votre Licence annuelle FFM en cours de validité ou de votre licence à la journée appelée « Pass Circuit » (Eco ou Vitesse)\, souscription sur le site internet de la FFM\n\n\n            \n            \n            Souscrire un Pass circuit\n	        \n            \n        \n    \nAvant de prendre la piste :\n\nObligation d’assister au briefing et de passer au contrôle sonomètre (maximum autorisé 102 dB)\n\nEquipement :\n\nCombinaison cuir ou deux pièces rattachables en cuir\nDorsale\, air-bag et protection pectorale fortement recommandés\nCasque intégral\nGants et bottes montantes\n\nRèglement journées open moto : \n\n            \n            \n            Consulter
URL:https://circuit-pau-arnos.fr/event/open-moto-4-mai-2026/
LOCATION:Circuit PAU ARNOS\, Arnos\, 64048\, France
CATEGORIES:Moto
ATTACH;FMTTYPE=image/jpeg:https://circuit-pau-arnos.fr/wp-content/uploads/2023/02/roulagemoto-1.jpg
END:VEVENT
BEGIN:VEVENT
DTSTART;TZID=Europe/Paris:20260511T083000
DTEND;TZID=Europe/Paris:20260511T180000
DTSTAMP:20260423T120758
CREATED:20251125T094059Z
LAST-MODIFIED:20260305T081043Z
UID:10002131-1778488200-1778522400@circuit-pau-arnos.fr
SUMMARY:OPEN MOTO
DESCRIPTION:Sous réserve d’un minimum de 30 inscrits à J-3 (afin de réserver le service médical\, les commissaires …) \nRoulage par séries de niveau ( 6 x 20 minutes) \nCatégories : \nInitiation (temps supérieur à 1’36) / Intermédiaire (temps compris entre 1’36 et 1’32) \nConfirmé (temps compris entre 1’32 et 1’28) / Expert (temps inférieur à 1’28) \nHoraires de roulage : 8h30 -12h30 / 14h00-18h00 \n\n            \n            \n            consultez les horaires prévisionnels \n	        \n            \n        \n    \nInscriptions :\n\nInscription obligatoire et paiement en ligne sur Engage Sports jusqu’à 16h00 la veille du roulage (sous réserve de places disponibles)\n\n\n            \n            \n            inscriptions\n	        \n            \n        \n    \nTarifs :\n\n85€ la demi-journée (3 x 20 minutes\, matinée ou après-midi)\n130€ la journée (6 x 20 minutes)\nCotisation annuelle au MCPA : 10€ à régler sur Engage Sports\n\n\n            \n            \n            Cotisation annuelle\n	        \n            \n        \n    \n\nArrivée la veille entre 19h00 et 22h00 : 10€ / pilote\nLocation de box : 32m² : 40€ par jour / 84m² : 100€ par jour\n\nOuverture de l’accueil à 7h30 :\n\nPrésentation de votre Licence annuelle FFM en cours de validité ou de votre licence à la journée appelée « Pass Circuit » (Eco ou Vitesse)\, souscription sur le site internet de la FFM\n\n\n            \n            \n            Souscrire un Pass circuit\n	        \n            \n        \n    \nAvant de prendre la piste :\n\nObligation d’assister au briefing et de passer au contrôle sonomètre (maximum autorisé 102 dB)\n\nEquipement :\n\nCombinaison cuir ou deux pièces rattachables en cuir\nDorsale\, air-bag et protection pectorale fortement recommandés\nCasque intégral\nGants et bottes montantes\n\nRèglement journées open moto : \n\n            \n            \n            Consulter
URL:https://circuit-pau-arnos.fr/event/open-moto-11-mai-2026/
LOCATION:Circuit PAU ARNOS\, Arnos\, 64048\, France
CATEGORIES:Moto
ATTACH;FMTTYPE=image/jpeg:https://circuit-pau-arnos.fr/wp-content/uploads/2023/02/roulagemoto-1.jpg
END:VEVENT
BEGIN:VEVENT
DTSTART;TZID=Europe/Paris:20260517T083000
DTEND;TZID=Europe/Paris:20260517T180000
DTSTAMP:20260423T120758
CREATED:20251125T094140Z
LAST-MODIFIED:20260305T081406Z
UID:10002132-1779006600-1779040800@circuit-pau-arnos.fr
SUMMARY:OPEN MOTO
DESCRIPTION:Sous réserve d’un minimum de 30 inscrits à J-3 (afin de réserver le service médical\, les commissaires …) \nRoulage par séries de niveau ( 6 x 20 minutes) \nCatégories : \nInitiation (temps supérieur à 1’36) / Intermédiaire (temps compris entre 1’36 et 1’32) \nConfirmé (temps compris entre 1’32 et 1’28) / Expert (temps inférieur à 1’28) \nHoraires de roulage : 8h30 -12h30 / 14h00-18h00 \n\n            \n            \n            consultez les horaires prévisionnels \n	        \n            \n        \n    \nInscriptions :\n\nInscription obligatoire et paiement en ligne sur Engage Sports jusqu’à 16h00 la veille du roulage (sous réserve de places disponibles)\n\n\n            \n            \n            inscriptions\n	        \n            \n        \n    \nTarifs :\n\n85€ la demi-journée (3 x 20 minutes\, matinée ou après-midi)\n130€ la journée (6 x 20 minutes)\nCotisation annuelle au MCPA : 10€ à régler sur Engage Sports\n\n\n            \n            \n            Cotisation annuelle\n	        \n            \n        \n    \n\nArrivée la veille entre 19h00 et 22h00 : 10€ / pilote\nLocation de box : 32m² : 40€ par jour / 84m² : 100€ par jour\n\nOuverture de l’accueil à 7h30 :\n\nPrésentation de votre Licence annuelle FFM en cours de validité ou de votre licence à la journée appelée « Pass Circuit » (Eco ou Vitesse)\, souscription sur le site internet de la FFM\n\n\n            \n            \n            Souscrire un Pass circuit\n	        \n            \n        \n    \nAvant de prendre la piste :\n\nObligation d’assister au briefing et de passer au contrôle sonomètre (maximum autorisé 102 dB)\n\nEquipement :\n\nCombinaison cuir ou deux pièces rattachables en cuir\nDorsale\, air-bag et protection pectorale fortement recommandés\nCasque intégral\nGants et bottes montantes\n\nRèglement journées open moto : \n\n            \n            \n            Consulter
URL:https://circuit-pau-arnos.fr/event/open-moto-17-mai-2026/
LOCATION:Circuit PAU ARNOS\, Arnos\, 64048\, France
CATEGORIES:Moto
ATTACH;FMTTYPE=image/jpeg:https://circuit-pau-arnos.fr/wp-content/uploads/2023/02/roulagemoto-1.jpg
END:VEVENT
BEGIN:VEVENT
DTSTART;TZID=Europe/Paris:20260518T083000
DTEND;TZID=Europe/Paris:20260518T180000
DTSTAMP:20260423T120758
CREATED:20260131T094535Z
LAST-MODIFIED:20260305T081605Z
UID:10002226-1779093000-1779127200@circuit-pau-arnos.fr
SUMMARY:OPEN MOTO  - CATEGORIE INITIATION UNIQUEMENT
DESCRIPTION:Sous réserve d’un minimum de 30 inscrits à J-3 (afin de réserver le service médical\, les commissaires …) \nRoulage par séries de niveau ( 6 x 20 minutes) – Catégorie Initiation (temps supérieur à 1’35) uniquement \nInscriptions :\n\nInscription obligatoire et paiement en ligne sur Engage Sports jusqu’à 16h00 la veille du roulage (sous réserve de places disponibles)\n\n\n            \n            \n            inscriptions\n	        \n            \n        \n    \nTarifs :\n\n85€ la demi-journée (3 x 20 minutes\, matinée ou après-midi)\n130€ la journée (6 x 20 minutes)\nCotisation annuelle au MCPA : 10€ à régler sur Engage Sports\n\n\n            \n            \n            Cotisation annuelle\n	        \n            \n        \n    \n\nArrivée la veille entre 19h00 et 22h00 : 10€ / pilote\nLocation de box : 32m² : 40€ par jour / 84m² : 100€ par jour\n\nOuverture de l’accueil à 7h30 :\n\nPrésentation de votre Licence annuelle FFM en cours de validité ou de votre licence à la journée appelée « Pass Circuit » (Eco ou Vitesse)\, souscription sur le site internet de la FFM\n\n\n            \n            \n            Souscrire un Pass circuit\n	        \n            \n        \n    \nAvant de prendre la piste :\n\nObligation d’assister au briefing et de passer au contrôle sonomètre (maximum autorisé 102 dB)\n\nEquipement :\n\nCombinaison cuir ou deux pièces rattachables en cuir\nDorsale\, air-bag et protection pectorale fortement recommandés\nCasque intégral\nGants et bottes montantes\n\nRèglement journées open moto : \n\n            \n            \n            Consulter
URL:https://circuit-pau-arnos.fr/event/open-moto-18-mai-2026/
LOCATION:Circuit PAU ARNOS\, Arnos\, 64048\, France
CATEGORIES:Moto
ATTACH;FMTTYPE=image/jpeg:https://circuit-pau-arnos.fr/wp-content/uploads/2023/02/roulagemoto-1.jpg
END:VEVENT
BEGIN:VEVENT
DTSTART;TZID=Europe/Paris:20260521T083000
DTEND;TZID=Europe/Paris:20260521T180000
DTSTAMP:20260423T120758
CREATED:20260131T093200Z
LAST-MODIFIED:20260305T082616Z
UID:10002225-1779352200-1779386400@circuit-pau-arnos.fr
SUMMARY:OPEN MOTO
DESCRIPTION:Sous réserve d’un minimum de 30 inscrits à J-3 (afin de réserver le service médical\, les commissaires …) \nRoulage par séries de niveau ( 6 x 20 minutes) \nCatégories : \nInitiation (temps supérieur à 1’36) / Intermédiaire (temps compris entre 1’36 et 1’32) \nConfirmé (temps compris entre 1’32 et 1’28) / Expert (temps inférieur à 1’28) \nHoraires de roulage : 8h30 -12h30 / 14h00-18h00 \n\n            \n            \n            consultez les horaires prévisionnels \n	        \n            \n        \n    \nInscriptions :\n\nInscription obligatoire et paiement en ligne sur Engage Sports jusqu’à 16h00 la veille du roulage (sous réserve de places disponibles)\n\n\n            \n            \n            inscriptions\n	        \n            \n        \n    \nTarifs :\n\n85€ la demi-journée (3 x 20 minutes\, matinée ou après-midi)\n130€ la journée (6 x 20 minutes)\nCotisation annuelle au MCPA : 10€ à régler sur Engage Sports\n\n\n            \n            \n            Cotisation annuelle\n	        \n            \n        \n    \n\nArrivée la veille entre 19h00 et 22h00 : 10€ / pilote\nLocation de box : 32m² : 40€ par jour / 84m² : 100€ par jour\n\nOuverture de l’accueil à 7h30 :\n\nPrésentation de votre Licence annuelle FFM en cours de validité ou de votre licence à la journée appelée « Pass Circuit » (Eco ou Vitesse)\, souscription sur le site internet de la FFM\n\n\n            \n            \n            Souscrire un Pass circuit\n	        \n            \n        \n    \nAvant de prendre la piste :\n\nObligation d’assister au briefing et de passer au contrôle sonomètre (maximum autorisé 102 dB)\n\nEquipement :\n\nCombinaison cuir ou deux pièces rattachables en cuir\nDorsale\, air-bag et protection pectorale fortement recommandés\nCasque intégral\nGants et bottes montantes\n\nRèglement journées open moto : \n\n            \n            \n            Consulter
URL:https://circuit-pau-arnos.fr/event/open-moto-21-mai-2026/
LOCATION:Circuit PAU ARNOS\, Arnos\, 64048\, France
CATEGORIES:Moto
ATTACH;FMTTYPE=image/jpeg:https://circuit-pau-arnos.fr/wp-content/uploads/2023/02/roulagemoto-1.jpg
END:VEVENT
END:VCALENDAR