BEGIN:VCALENDAR
VERSION:2.0
PRODID:-//Circuit Européen PAU ARNOS - ECPv6.15.13//NONSGML v1.0//EN
CALSCALE:GREGORIAN
METHOD:PUBLISH
X-ORIGINAL-URL:https://circuit-pau-arnos.fr
X-WR-CALDESC:Évènements pour Circuit Européen PAU ARNOS
REFRESH-INTERVAL;VALUE=DURATION:PT1H
X-Robots-Tag:noindex
X-PUBLISHED-TTL:PT1H
BEGIN:VTIMEZONE
TZID:Europe/Paris
BEGIN:DAYLIGHT
TZOFFSETFROM:+0100
TZOFFSETTO:+0200
TZNAME:CEST
DTSTART:20240331T010000
END:DAYLIGHT
BEGIN:STANDARD
TZOFFSETFROM:+0200
TZOFFSETTO:+0100
TZNAME:CET
DTSTART:20241027T010000
END:STANDARD
BEGIN:DAYLIGHT
TZOFFSETFROM:+0100
TZOFFSETTO:+0200
TZNAME:CEST
DTSTART:20250330T010000
END:DAYLIGHT
BEGIN:STANDARD
TZOFFSETFROM:+0200
TZOFFSETTO:+0100
TZNAME:CET
DTSTART:20251026T010000
END:STANDARD
BEGIN:DAYLIGHT
TZOFFSETFROM:+0100
TZOFFSETTO:+0200
TZNAME:CEST
DTSTART:20260329T010000
END:DAYLIGHT
BEGIN:STANDARD
TZOFFSETFROM:+0200
TZOFFSETTO:+0100
TZNAME:CET
DTSTART:20261025T010000
END:STANDARD
END:VTIMEZONE
BEGIN:VEVENT
DTSTART;VALUE=DATE:20250501
DTEND;VALUE=DATE:20250502
DTSTAMP:20260424T050925
CREATED:20241128T135621Z
LAST-MODIFIED:20250314T211900Z
UID:10001549-1746057600-1746143999@circuit-pau-arnos.fr
SUMMARY:CIRCUIT RÉSERVÉ
DESCRIPTION:Circuit réservé
URL:https://circuit-pau-arnos.fr/event/circuit-reserve-50/
LOCATION:Circuit PAU ARNOS\, Arnos\, 64048\, France
CATEGORIES:Réservé
ATTACH;FMTTYPE=image/jpeg:https://circuit-pau-arnos.fr/wp-content/uploads/2023/03/reserve.jpg
END:VEVENT
BEGIN:VEVENT
DTSTART;TZID=Europe/Paris:20250508T083000
DTEND;TZID=Europe/Paris:20250510T180000
DTSTAMP:20260424T050925
CREATED:20241128T141254Z
LAST-MODIFIED:20250319T082252Z
UID:10001553-1746693000-1746900000@circuit-pau-arnos.fr
SUMMARY:CLASSIC RACE - TEAM LAVERGNAC
DESCRIPTION:Circuit réservé par TEAM LAVERGNAC
URL:https://circuit-pau-arnos.fr/event/classic-race-team-lavergnac-2/
LOCATION:Circuit PAU ARNOS\, Arnos\, 64048\, France
CATEGORIES:Réservé
ATTACH;FMTTYPE=image/jpeg:https://circuit-pau-arnos.fr/wp-content/uploads/2023/03/reserve.jpg
END:VEVENT
BEGIN:VEVENT
DTSTART;VALUE=DATE:20250511
DTEND;VALUE=DATE:20250512
DTSTAMP:20260424T050925
CREATED:20241229T125500Z
LAST-MODIFIED:20250314T212116Z
UID:10001678-1746921600-1747007999@circuit-pau-arnos.fr
SUMMARY:CIRCUIT RÉSERVÉ
DESCRIPTION:Circuit réservé
URL:https://circuit-pau-arnos.fr/event/circuit-reserve-67/
LOCATION:Circuit PAU ARNOS\, Arnos\, 64048\, France
CATEGORIES:Réservé
ATTACH;FMTTYPE=image/jpeg:https://circuit-pau-arnos.fr/wp-content/uploads/2023/03/reserve.jpg
END:VEVENT
BEGIN:VEVENT
DTSTART;VALUE=DATE:20250513
DTEND;VALUE=DATE:20250514
DTSTAMP:20260424T050925
CREATED:20250212T131151Z
LAST-MODIFIED:20250314T212123Z
UID:10001731-1747094400-1747180799@circuit-pau-arnos.fr
SUMMARY:CIRCUIT RÉSERVÉ
DESCRIPTION:Circuit réservé
URL:https://circuit-pau-arnos.fr/event/circuit-reserve-71/
LOCATION:Circuit PAU ARNOS\, Arnos\, 64048\, France
CATEGORIES:Réservé
ATTACH;FMTTYPE=image/jpeg:https://circuit-pau-arnos.fr/wp-content/uploads/2023/03/reserve.jpg
END:VEVENT
BEGIN:VEVENT
DTSTART;VALUE=DATE:20250514
DTEND;VALUE=DATE:20250515
DTSTAMP:20260424T050925
CREATED:20250212T131209Z
LAST-MODIFIED:20250314T212133Z
UID:10001732-1747180800-1747267199@circuit-pau-arnos.fr
SUMMARY:CIRCUIT RÉSERVÉ
DESCRIPTION:Circuit réservé
URL:https://circuit-pau-arnos.fr/event/circuit-reserve-72/
LOCATION:Circuit PAU ARNOS\, Arnos\, 64048\, France
CATEGORIES:Réservé
ATTACH;FMTTYPE=image/jpeg:https://circuit-pau-arnos.fr/wp-content/uploads/2023/03/reserve.jpg
END:VEVENT
BEGIN:VEVENT
DTSTART;VALUE=DATE:20250516
DTEND;VALUE=DATE:20250518
DTSTAMP:20260424T050925
CREATED:20241128T141432Z
LAST-MODIFIED:20250314T212143Z
UID:10001555-1747353600-1747526399@circuit-pau-arnos.fr
SUMMARY:CIRCUIT RÉSERVÉ
DESCRIPTION:Circuit réservé
URL:https://circuit-pau-arnos.fr/event/circuit-reserve-51/
LOCATION:Circuit PAU ARNOS\, Arnos\, 64048\, France
CATEGORIES:Réservé
ATTACH;FMTTYPE=image/jpeg:https://circuit-pau-arnos.fr/wp-content/uploads/2023/03/reserve.jpg
END:VEVENT
BEGIN:VEVENT
DTSTART;VALUE=DATE:20250520
DTEND;VALUE=DATE:20250521
DTSTAMP:20260424T050925
CREATED:20241128T141718Z
LAST-MODIFIED:20250314T212150Z
UID:10001557-1747699200-1747785599@circuit-pau-arnos.fr
SUMMARY:CIRCUIT RÉSERVÉ
DESCRIPTION:Circuit réservé
URL:https://circuit-pau-arnos.fr/event/circuit-reserve-52/
LOCATION:Circuit PAU ARNOS\, Arnos\, 64048\, France
CATEGORIES:Réservé
ATTACH;FMTTYPE=image/jpeg:https://circuit-pau-arnos.fr/wp-content/uploads/2023/03/reserve.jpg
END:VEVENT
BEGIN:VEVENT
DTSTART;VALUE=DATE:20250524
DTEND;VALUE=DATE:20250526
DTSTAMP:20260424T050925
CREATED:20241128T141328Z
LAST-MODIFIED:20250314T212200Z
UID:10001554-1748044800-1748217599@circuit-pau-arnos.fr
SUMMARY:MPS ORGANISATION
DESCRIPTION:Circuit réservé par MPS ORGANISATION
URL:https://circuit-pau-arnos.fr/event/mps-organisation-8/
LOCATION:Circuit PAU ARNOS\, Arnos\, 64048\, France
CATEGORIES:Réservé
ATTACH;FMTTYPE=image/jpeg:https://circuit-pau-arnos.fr/wp-content/uploads/2023/03/reserve.jpg
END:VEVENT
BEGIN:VEVENT
DTSTART;VALUE=DATE:20250529
DTEND;VALUE=DATE:20250601
DTSTAMP:20260424T050925
CREATED:20241128T141548Z
LAST-MODIFIED:20250314T212208Z
UID:10001556-1748476800-1748735999@circuit-pau-arnos.fr
SUMMARY:ECOLE DE PILOTAGE AUTO GTRO
DESCRIPTION:Circuit réservé par GTRO
URL:https://circuit-pau-arnos.fr/event/ecole-de-pilotage-auto-gtro-23/
LOCATION:Circuit PAU ARNOS\, Arnos\, 64048\, France
CATEGORIES:Réservé
ATTACH;FMTTYPE=image/jpeg:https://circuit-pau-arnos.fr/wp-content/uploads/2023/03/reserve.jpg
END:VEVENT
END:VCALENDAR