BEGIN:VCALENDAR
VERSION:2.0
PRODID:-//Circuit Européen PAU ARNOS - ECPv6.15.13//NONSGML v1.0//EN
CALSCALE:GREGORIAN
METHOD:PUBLISH
X-ORIGINAL-URL:https://circuit-pau-arnos.fr
X-WR-CALDESC:Évènements pour Circuit Européen PAU ARNOS
REFRESH-INTERVAL;VALUE=DURATION:PT1H
X-Robots-Tag:noindex
X-PUBLISHED-TTL:PT1H
BEGIN:VTIMEZONE
TZID:Europe/Paris
BEGIN:DAYLIGHT
TZOFFSETFROM:+0100
TZOFFSETTO:+0200
TZNAME:CEST
DTSTART:20240331T010000
END:DAYLIGHT
BEGIN:STANDARD
TZOFFSETFROM:+0200
TZOFFSETTO:+0100
TZNAME:CET
DTSTART:20241027T010000
END:STANDARD
BEGIN:DAYLIGHT
TZOFFSETFROM:+0100
TZOFFSETTO:+0200
TZNAME:CEST
DTSTART:20250330T010000
END:DAYLIGHT
BEGIN:STANDARD
TZOFFSETFROM:+0200
TZOFFSETTO:+0100
TZNAME:CET
DTSTART:20251026T010000
END:STANDARD
BEGIN:DAYLIGHT
TZOFFSETFROM:+0100
TZOFFSETTO:+0200
TZNAME:CEST
DTSTART:20260329T010000
END:DAYLIGHT
BEGIN:STANDARD
TZOFFSETFROM:+0200
TZOFFSETTO:+0100
TZNAME:CET
DTSTART:20261025T010000
END:STANDARD
END:VTIMEZONE
BEGIN:VEVENT
DTSTART;VALUE=DATE:20251003
DTEND;VALUE=DATE:20251004
DTSTAMP:20260423T223110
CREATED:20250908T135345Z
LAST-MODIFIED:20250908T135345Z
UID:10001962-1759449600-1759535999@circuit-pau-arnos.fr
SUMMARY:CIRCUIT RÉSERVÉ
DESCRIPTION:Circuit réservé
URL:https://circuit-pau-arnos.fr/event/circuit-reserve-49/
LOCATION:Circuit PAU ARNOS\, Arnos\, 64048\, France
CATEGORIES:Réservé
ATTACH;FMTTYPE=image/jpeg:https://circuit-pau-arnos.fr/wp-content/uploads/2023/03/reserve.jpg
END:VEVENT
BEGIN:VEVENT
DTSTART;VALUE=DATE:20251010
DTEND;VALUE=DATE:20251013
DTSTAMP:20260423T223110
CREATED:20241128T144336Z
LAST-MODIFIED:20250319T082920Z
UID:10001582-1760054400-1760313599@circuit-pau-arnos.fr
SUMMARY:ECOLE DE PILOTAGE AUTO GTRO
DESCRIPTION:Circuit réservé par GTRO
URL:https://circuit-pau-arnos.fr/event/ecole-de-pilotage-auto-gtro-29/
LOCATION:Circuit PAU ARNOS\, Arnos\, 64048\, France
CATEGORIES:Réservé
ATTACH;FMTTYPE=image/jpeg:https://circuit-pau-arnos.fr/wp-content/uploads/2023/03/reserve.jpg
END:VEVENT
BEGIN:VEVENT
DTSTART;VALUE=DATE:20251017
DTEND;VALUE=DATE:20251018
DTSTAMP:20260423T223110
CREATED:20241128T144745Z
LAST-MODIFIED:20250319T082926Z
UID:10001587-1760659200-1760745599@circuit-pau-arnos.fr
SUMMARY:CIRCUIT RÉSERVÉ
DESCRIPTION:Circuit réservé
URL:https://circuit-pau-arnos.fr/event/circuit-reserve-61/
LOCATION:Circuit PAU ARNOS\, Arnos\, 64048\, France
CATEGORIES:Réservé
ATTACH;FMTTYPE=image/jpeg:https://circuit-pau-arnos.fr/wp-content/uploads/2023/03/reserve.jpg
END:VEVENT
BEGIN:VEVENT
DTSTART;VALUE=DATE:20251018
DTEND;VALUE=DATE:20251020
DTSTAMP:20260423T223110
CREATED:20241128T144634Z
LAST-MODIFIED:20250319T082934Z
UID:10001586-1760745600-1760918399@circuit-pau-arnos.fr
SUMMARY:MPS ORGANISATION
DESCRIPTION:Circuit réservé par MPS ORGANISATION
URL:https://circuit-pau-arnos.fr/event/mps-organisation-10/
LOCATION:Circuit PAU ARNOS\, Arnos\, 64048\, France
CATEGORIES:Réservé
ATTACH;FMTTYPE=image/jpeg:https://circuit-pau-arnos.fr/wp-content/uploads/2023/03/reserve.jpg
END:VEVENT
BEGIN:VEVENT
DTSTART;VALUE=DATE:20251024
DTEND;VALUE=DATE:20251027
DTSTAMP:20260423T223110
CREATED:20241128T144352Z
LAST-MODIFIED:20250319T082942Z
UID:10001583-1761264000-1761523199@circuit-pau-arnos.fr
SUMMARY:ECOLE DE PILOTAGE AUTO GTRO
DESCRIPTION:Circuit réservé par GTRO
URL:https://circuit-pau-arnos.fr/event/ecole-de-pilotage-auto-gtro-30/
LOCATION:Circuit PAU ARNOS\, Arnos\, 64048\, France
CATEGORIES:Réservé
ATTACH;FMTTYPE=image/jpeg:https://circuit-pau-arnos.fr/wp-content/uploads/2023/03/reserve.jpg
END:VEVENT
BEGIN:VEVENT
DTSTART;VALUE=DATE:20251028
DTEND;VALUE=DATE:20251124
DTSTAMP:20260423T223110
CREATED:20250908T140040Z
LAST-MODIFIED:20251029T113059Z
UID:10001964-1761609600-1763942399@circuit-pau-arnos.fr
SUMMARY:CIRCUIT FERMÉ POUR TRAVAUX
DESCRIPTION:Le circuit fait « Pau neuve »\, et sera fermé pour travaux tout le mois de novembre. \nPendant les travaux\, le secrétariat reste joignable du lundi au vendredi de 8h30 à 12h30 et de 14h00 à 18h00 : contact@circuit-pau-arnos.fr / 05 59 77 18 70. \nLa piste de karting reste ouverte du mercredi au dimanche de 10h00 à 12h00 et de 14h00 à 18h00 (réservations au 05 59 77 18 70). \nAu plaisir de vous accueillir de nouveau au circuit à partir du mois de décembre.
URL:https://circuit-pau-arnos.fr/event/circuit-ferme-pour-travaux/
LOCATION:Circuit PAU ARNOS\, Arnos\, 64048\, France
CATEGORIES:Réservé
END:VEVENT
END:VCALENDAR