BEGIN:VCALENDAR
VERSION:2.0
PRODID:-//Circuit Européen PAU ARNOS - ECPv6.15.13//NONSGML v1.0//EN
CALSCALE:GREGORIAN
METHOD:PUBLISH
X-ORIGINAL-URL:https://circuit-pau-arnos.fr
X-WR-CALDESC:Évènements pour Circuit Européen PAU ARNOS
REFRESH-INTERVAL;VALUE=DURATION:PT1H
X-Robots-Tag:noindex
X-PUBLISHED-TTL:PT1H
BEGIN:VTIMEZONE
TZID:Europe/Paris
BEGIN:DAYLIGHT
TZOFFSETFROM:+0100
TZOFFSETTO:+0200
TZNAME:CEST
DTSTART:20250330T010000
END:DAYLIGHT
BEGIN:STANDARD
TZOFFSETFROM:+0200
TZOFFSETTO:+0100
TZNAME:CET
DTSTART:20251026T010000
END:STANDARD
BEGIN:DAYLIGHT
TZOFFSETFROM:+0100
TZOFFSETTO:+0200
TZNAME:CEST
DTSTART:20260329T010000
END:DAYLIGHT
BEGIN:STANDARD
TZOFFSETFROM:+0200
TZOFFSETTO:+0100
TZNAME:CET
DTSTART:20261025T010000
END:STANDARD
BEGIN:DAYLIGHT
TZOFFSETFROM:+0100
TZOFFSETTO:+0200
TZNAME:CEST
DTSTART:20270328T010000
END:DAYLIGHT
BEGIN:STANDARD
TZOFFSETFROM:+0200
TZOFFSETTO:+0100
TZNAME:CET
DTSTART:20271031T010000
END:STANDARD
END:VTIMEZONE
BEGIN:VEVENT
DTSTART;VALUE=DATE:20260305
DTEND;VALUE=DATE:20260306
DTSTAMP:20260423T133304
CREATED:20251125T072716Z
LAST-MODIFIED:20251125T072716Z
UID:10002083-1772668800-1772755199@circuit-pau-arnos.fr
SUMMARY:CIRCUIT RÉSERVÉ
DESCRIPTION:Circuit réservé
URL:https://circuit-pau-arnos.fr/event/circuit-reserve-65/
LOCATION:Circuit PAU ARNOS\, Arnos\, 64048\, France
CATEGORIES:Réservé
ATTACH;FMTTYPE=image/jpeg:https://circuit-pau-arnos.fr/wp-content/uploads/2023/03/reserve.jpg
END:VEVENT
BEGIN:VEVENT
DTSTART;VALUE=DATE:20260310
DTEND;VALUE=DATE:20260314
DTSTAMP:20260423T133304
CREATED:20251125T072842Z
LAST-MODIFIED:20251125T072842Z
UID:10002085-1773100800-1773446399@circuit-pau-arnos.fr
SUMMARY:CIRCUIT RÉSERVÉ
DESCRIPTION:Circuit réservé
URL:https://circuit-pau-arnos.fr/event/circuit-reserve-76/
LOCATION:Circuit PAU ARNOS\, Arnos\, 64048\, France
CATEGORIES:Réservé
ATTACH;FMTTYPE=image/jpeg:https://circuit-pau-arnos.fr/wp-content/uploads/2023/03/reserve.jpg
END:VEVENT
BEGIN:VEVENT
DTSTART;VALUE=DATE:20260314
DTEND;VALUE=DATE:20260316
DTSTAMP:20260423T133304
CREATED:20251125T073815Z
LAST-MODIFIED:20251125T073815Z
UID:10002104-1773446400-1773619199@circuit-pau-arnos.fr
SUMMARY:PPO TRACK DAYS
DESCRIPTION:Circuit réservé par PPO TRACK DAYS
URL:https://circuit-pau-arnos.fr/event/ppo-track-days/
LOCATION:Circuit PAU ARNOS\, Arnos\, 64048\, France
CATEGORIES:Réservé
ATTACH;FMTTYPE=image/jpeg:https://circuit-pau-arnos.fr/wp-content/uploads/2023/03/reserve.jpg
END:VEVENT
BEGIN:VEVENT
DTSTART;VALUE=DATE:20260319
DTEND;VALUE=DATE:20260320
DTSTAMP:20260423T133304
CREATED:20260207T145643Z
LAST-MODIFIED:20260207T145643Z
UID:10002238-1773878400-1773964799@circuit-pau-arnos.fr
SUMMARY:CIRCUIT RÉSERVÉ
DESCRIPTION:Circuit réservé
URL:https://circuit-pau-arnos.fr/event/circuit-reserve-91/
LOCATION:Circuit PAU ARNOS\, Arnos\, 64048\, France
CATEGORIES:Réservé
ATTACH;FMTTYPE=image/jpeg:https://circuit-pau-arnos.fr/wp-content/uploads/2023/03/reserve.jpg
END:VEVENT
BEGIN:VEVENT
DTSTART;VALUE=DATE:20260321
DTEND;VALUE=DATE:20260323
DTSTAMP:20260423T133304
CREATED:20251125T073937Z
LAST-MODIFIED:20251125T073937Z
UID:10002107-1774051200-1774223999@circuit-pau-arnos.fr
SUMMARY:MPS ORGANISATION
DESCRIPTION:Circuit réservé par MPS ORGANISATION
URL:https://circuit-pau-arnos.fr/event/mps-organisation-11/
LOCATION:Circuit PAU ARNOS\, Arnos\, 64048\, France
CATEGORIES:Réservé
ATTACH;FMTTYPE=image/jpeg:https://circuit-pau-arnos.fr/wp-content/uploads/2023/03/reserve.jpg
END:VEVENT
BEGIN:VEVENT
DTSTART;VALUE=DATE:20260326
DTEND;VALUE=DATE:20260327
DTSTAMP:20260423T133304
CREATED:20251212T132351Z
LAST-MODIFIED:20260211T111738Z
UID:10002161-1774483200-1774569599@circuit-pau-arnos.fr
SUMMARY:CIRCUIT RÉSERVÉ
DESCRIPTION:Circuit réservé
URL:https://circuit-pau-arnos.fr/event/circuit-reserve-88/
LOCATION:Circuit PAU ARNOS\, Arnos\, 64048\, France
CATEGORIES:Réservé
ATTACH;FMTTYPE=image/jpeg:https://circuit-pau-arnos.fr/wp-content/uploads/2023/03/reserve.jpg
END:VEVENT
END:VCALENDAR