BEGIN:VCALENDAR
VERSION:2.0
PRODID:-//Circuit Européen PAU ARNOS - ECPv6.15.13//NONSGML v1.0//EN
CALSCALE:GREGORIAN
METHOD:PUBLISH
X-WR-CALNAME:Circuit Européen PAU ARNOS
X-ORIGINAL-URL:https://circuit-pau-arnos.fr
X-WR-CALDESC:Évènements pour Circuit Européen PAU ARNOS
REFRESH-INTERVAL;VALUE=DURATION:PT1H
X-Robots-Tag:noindex
X-PUBLISHED-TTL:PT1H
BEGIN:VTIMEZONE
TZID:Europe/Paris
BEGIN:DAYLIGHT
TZOFFSETFROM:+0100
TZOFFSETTO:+0200
TZNAME:CEST
DTSTART:20250330T010000
END:DAYLIGHT
BEGIN:STANDARD
TZOFFSETFROM:+0200
TZOFFSETTO:+0100
TZNAME:CET
DTSTART:20251026T010000
END:STANDARD
BEGIN:DAYLIGHT
TZOFFSETFROM:+0100
TZOFFSETTO:+0200
TZNAME:CEST
DTSTART:20260329T010000
END:DAYLIGHT
BEGIN:STANDARD
TZOFFSETFROM:+0200
TZOFFSETTO:+0100
TZNAME:CET
DTSTART:20261025T010000
END:STANDARD
BEGIN:DAYLIGHT
TZOFFSETFROM:+0100
TZOFFSETTO:+0200
TZNAME:CEST
DTSTART:20270328T010000
END:DAYLIGHT
BEGIN:STANDARD
TZOFFSETFROM:+0200
TZOFFSETTO:+0100
TZNAME:CET
DTSTART:20271031T010000
END:STANDARD
END:VTIMEZONE
BEGIN:VEVENT
DTSTART;VALUE=DATE:20260704
DTEND;VALUE=DATE:20260706
DTSTAMP:20260423T164110
CREATED:20251125T074012Z
LAST-MODIFIED:20251125T074012Z
UID:10002109-1783123200-1783295999@circuit-pau-arnos.fr
SUMMARY:MPS ORGANISATION
DESCRIPTION:Circuit réservé par MPS ORGANISATION
URL:https://circuit-pau-arnos.fr/event/mps-organisation-13/
LOCATION:Circuit PAU ARNOS\, Arnos\, 64048\, France
CATEGORIES:Réservé
ATTACH;FMTTYPE=image/jpeg:https://circuit-pau-arnos.fr/wp-content/uploads/2023/03/reserve.jpg
END:VEVENT
BEGIN:VEVENT
DTSTART;TZID=Europe/Paris:20260706T083000
DTEND;TZID=Europe/Paris:20260706T180000
DTSTAMP:20260423T164110
CREATED:20251125T103747Z
LAST-MODIFIED:20260105T144739Z
UID:10002152-1783326600-1783360800@circuit-pau-arnos.fr
SUMMARY:OPEN MOTO  - INITIATION ET CONFIRMÉ
DESCRIPTION:Sous réserve d’un minimum de 30 inscrits à J-3 (afin de réserver le service médical\, les commissaires …) \nRoulage par séries de niveau ( 6 x 20 minutes) – Catégories Initiation (temps supérieur à 1’35) et Confirmé (temps compris entre 1’35 et 1’30) uniquement \n\n            \n            \n            consultez les horaires prévisionnels\n	        \n            \n        \n     \nInscriptions :\n\nInscription obligatoire et paiement en ligne sur Engage Sports jusqu’à 16h00 la veille du roulage (sous réserve de places disponibles) : ouverture des inscriptions 2 mois avant\n\nTarifs :\n\n85€ la demi-journée (3 x 20 minutes\, matinée ou après-midi)\n130€ la journée (6 x 20 minutes)\nCotisation annuelle au MCPA : 10€ à régler sur Engage Sports\n\n\n            \n            \n            Cotisation annuelle\n	        \n            \n        \n    \n\nArrivée la veille entre 19h00 et 22h00 : 10€ / pilote\nLocation de box : 32m² : 40€ par jour / 84m² : 100€ par jour\n\nOuverture de l’accueil à 7h30 :\n\nPrésentation de votre Licence annuelle FFM en cours de validité ou de votre licence à la journée appelée « Pass Circuit » (Eco ou Vitesse)\, souscription sur le site internet de la FFM\n\n\n            \n            \n            Souscrire un Pass circuit\n	        \n            \n        \n    \nAvant de prendre la piste :\n\nObligation d’assister au briefing et de passer au contrôle sonomètre (maximum autorisé 102 dB)\n\nEquipement :\n\nCombinaison cuir ou deux pièces rattachables en cuir\nDorsale\, air-bag et protection pectorale fortement recommandés\nCasque intégral\nGants et bottes montantes\n\nRèglement journées open moto : \n\n            \n            \n            Consulter
URL:https://circuit-pau-arnos.fr/event/open-moto-initiation-et-confirme-6-juillet-2026/
LOCATION:Circuit PAU ARNOS\, Arnos\, 64048\, France
CATEGORIES:Moto
ATTACH;FMTTYPE=image/jpeg:https://circuit-pau-arnos.fr/wp-content/uploads/2023/02/roulagemoto-1.jpg
END:VEVENT
BEGIN:VEVENT
DTSTART;TZID=Europe/Paris:20260707T083000
DTEND;TZID=Europe/Paris:20260707T180000
DTSTAMP:20260423T164110
CREATED:20251125T100512Z
LAST-MODIFIED:20260105T144753Z
UID:10002137-1783413000-1783447200@circuit-pau-arnos.fr
SUMMARY:OPEN MOTO
DESCRIPTION:Sous réserve d’un minimum de 30 inscrits à J-3 (afin de réserver le service médical\, les commissaires …) \nRoulage par séries de niveau ( 6 x 20 minutes) \nCatégories : \nInitiation (temps supérieur à 1’36) / Intermédiaire (temps compris entre 1’36 et 1’32) \nConfirmé (temps compris entre 1’32 et 1’28) / Expert (temps inférieur à 1’28) \nHoraires de roulage : 8h30 -12h30 / 14h00-18h00 \n\n            \n            \n            consultez les horaires prévisionnels \n	        \n            \n        \n    \nInscriptions :\n\nInscription obligatoire et paiement en ligne sur Engage Sports jusqu’à 16h00 la veille du roulage (sous réserve de places disponibles) : ouverture des inscriptions 2 mois avant\n\nTarifs :\n\n85€ la demi-journée (3 x 20 minutes\, matinée ou après-midi)\n130€ la journée (6 x 20 minutes)\nCotisation annuelle au MCPA : 10€ à régler sur Engage Sports\n\n\n            \n            \n            Cotisation annuelle\n	        \n            \n        \n    \n\nArrivée la veille entre 19h00 et 22h00 : 10€ / pilote\nLocation de box : 32m² : 40€ par jour / 84m² : 100€ par jour\n\nOuverture de l’accueil à 7h30 :\n\nPrésentation de votre Licence annuelle FFM en cours de validité ou de votre licence à la journée appelée « Pass Circuit » (Eco ou Vitesse)\, souscription sur le site internet de la FFM\n\n\n            \n            \n            Souscrire un Pass circuit\n	        \n            \n        \n    \nAvant de prendre la piste :\n\nObligation d’assister au briefing et de passer au contrôle sonomètre (maximum autorisé 102 dB)\n\nEquipement :\n\nCombinaison cuir ou deux pièces rattachables en cuir\nDorsale\, air-bag et protection pectorale fortement recommandés\nCasque intégral\nGants et bottes montantes\n\nRèglement journées open moto : \n\n            \n            \n            Consulter
URL:https://circuit-pau-arnos.fr/event/open-moto-7-juillet-2026/
LOCATION:Circuit PAU ARNOS\, Arnos\, 64048\, France
CATEGORIES:Moto
ATTACH;FMTTYPE=image/jpeg:https://circuit-pau-arnos.fr/wp-content/uploads/2023/02/roulagemoto-1.jpg
END:VEVENT
BEGIN:VEVENT
DTSTART;VALUE=DATE:20260711
DTEND;VALUE=DATE:20260713
DTSTAMP:20260423T164110
CREATED:20251125T074238Z
LAST-MODIFIED:20251125T074238Z
UID:10002111-1783728000-1783900799@circuit-pau-arnos.fr
SUMMARY:SLIDER ENDURANCE
DESCRIPTION:Circuit réservé par SLIDER ENDURANCE
URL:https://circuit-pau-arnos.fr/event/slider-endurance-7/
LOCATION:Circuit PAU ARNOS\, Arnos\, 64048\, France
CATEGORIES:Réservé
ATTACH;FMTTYPE=image/jpeg:https://circuit-pau-arnos.fr/wp-content/uploads/2023/03/reserve.jpg
END:VEVENT
BEGIN:VEVENT
DTSTART;VALUE=DATE:20260713
DTEND;VALUE=DATE:20260715
DTSTAMP:20260423T164110
CREATED:20251125T073053Z
LAST-MODIFIED:20251125T073053Z
UID:10002091-1783900800-1784073599@circuit-pau-arnos.fr
SUMMARY:CIRCUIT RÉSERVÉ
DESCRIPTION:Circuit réservé
URL:https://circuit-pau-arnos.fr/event/circuit-reserve-82/
LOCATION:Circuit PAU ARNOS\, Arnos\, 64048\, France
CATEGORIES:Réservé
ATTACH;FMTTYPE=image/jpeg:https://circuit-pau-arnos.fr/wp-content/uploads/2023/03/reserve.jpg
END:VEVENT
BEGIN:VEVENT
DTSTART;VALUE=DATE:20260715
DTEND;VALUE=DATE:20260716
DTSTAMP:20260423T164110
CREATED:20251125T073028Z
LAST-MODIFIED:20260320T091208Z
UID:10002090-1784073600-1784159999@circuit-pau-arnos.fr
SUMMARY:CD SPORT
DESCRIPTION:Circuit réservé par CD SPORT \n\n            \n            \n            Plus d'informatiobs
URL:https://circuit-pau-arnos.fr/event/circuit-reserve-81/
LOCATION:Circuit PAU ARNOS\, Arnos\, 64048\, France
CATEGORIES:Réservé
ATTACH;FMTTYPE=image/jpeg:https://circuit-pau-arnos.fr/wp-content/uploads/2023/03/reserve.jpg
END:VEVENT
BEGIN:VEVENT
DTSTART;VALUE=DATE:20260717
DTEND;VALUE=DATE:20260719
DTSTAMP:20260423T164110
CREATED:20251125T073503Z
LAST-MODIFIED:20251125T073503Z
UID:10002100-1784246400-1784419199@circuit-pau-arnos.fr
SUMMARY:ECOLE DE PILOTAGE AUTO GTRO
DESCRIPTION:Circuit réservé par GTRO
URL:https://circuit-pau-arnos.fr/event/ecole-de-pilotage-auto-gtro-38/
LOCATION:Circuit PAU ARNOS\, Arnos\, 64048\, France
CATEGORIES:Réservé
ATTACH;FMTTYPE=image/jpeg:https://circuit-pau-arnos.fr/wp-content/uploads/2023/03/reserve.jpg
END:VEVENT
BEGIN:VEVENT
DTSTART;VALUE=DATE:20260719
DTEND;VALUE=DATE:20260720
DTSTAMP:20260423T164110
CREATED:20251125T072016Z
LAST-MODIFIED:20251125T072016Z
UID:10002077-1784419200-1784505599@circuit-pau-arnos.fr
SUMMARY:CIRCUIT FERMÉ
DESCRIPTION:Circuit fermé
URL:https://circuit-pau-arnos.fr/event/circuit-ferme-16/
LOCATION:Circuit PAU ARNOS\, Arnos\, 64048\, France
CATEGORIES:Circuit
END:VEVENT
BEGIN:VEVENT
DTSTART;VALUE=DATE:20260719
DTEND;VALUE=DATE:20260720
DTSTAMP:20260423T164110
CREATED:20251212T132859Z
LAST-MODIFIED:20251212T132859Z
UID:10002170-1784419200-1784505599@circuit-pau-arnos.fr
SUMMARY:KARTING FERMÉ
DESCRIPTION:
URL:https://circuit-pau-arnos.fr/event/karting-ferme-113/
LOCATION:Circuit PAU ARNOS\, Arnos\, 64048\, France
CATEGORIES:Karting
END:VEVENT
BEGIN:VEVENT
DTSTART;TZID=Europe/Paris:20260720T083000
DTEND;TZID=Europe/Paris:20260720T180000
DTSTAMP:20260423T164110
CREATED:20251125T104149Z
LAST-MODIFIED:20260105T144808Z
UID:10002155-1784536200-1784570400@circuit-pau-arnos.fr
SUMMARY:OPEN MOTO  -  CONFIRMÉ ET EXPERT
DESCRIPTION:Sous réserve d’un minimum de 30 inscrits à J-3 (afin de réserver le service médical\, les commissaires …) \nRoulage par séries de niveau ( 6 x 20 minutes) – Catégories Confirmé (temps compris entre 1’35 et 1’30) et Expert (temps inférieur à 1’30) uniquement \n\n            \n            \n            consultez les horaires prévisionnels \n	        \n            \n        \n     \nInscriptions :\n\nInscription obligatoire et paiement en ligne sur Engage Sports jusqu’à 16h00 la veille du roulage (sous réserve de places disponibles) : ouverture des inscriptions 2 mois avant\n\nTarifs :\n\n85€ la demi-journée (3 x 20 minutes\, matinée ou après-midi)\n130€ la journée (6 x 20 minutes)\nCotisation annuelle au MCPA : 10€ à régler sur Engage Sports\n\n\n            \n            \n            Cotisation annuelle\n	        \n            \n        \n    \n\nArrivée la veille entre 19h00 et 22h00 : 10€ / pilote\nLocation de box : 32m² : 40€ par jour / 84m² : 100€ par jour\n\nOuverture de l’accueil à 7h30 :\n\nPrésentation de votre Licence annuelle FFM en cours de validité ou de votre licence à la journée appelée « Pass Circuit » (Eco ou Vitesse)\, souscription sur le site internet de la FFM\n\n\n            \n            \n            Souscrire un Pass circuit\n	        \n            \n        \n    \nAvant de prendre la piste :\n\nObligation d’assister au briefing et de passer au contrôle sonomètre (maximum autorisé 102 dB)\n\nEquipement :\n\nCombinaison cuir ou deux pièces rattachables en cuir\nDorsale\, air-bag et protection pectorale fortement recommandés\nCasque intégral\nGants et bottes montantes\n\nRèglement journées open moto : \n\n            \n            \n            Consulter
URL:https://circuit-pau-arnos.fr/event/open-moto-confirme-et-expert-20-juillet-2026/
LOCATION:Circuit PAU ARNOS\, Arnos\, 64048\, France
CATEGORIES:Moto
ATTACH;FMTTYPE=image/jpeg:https://circuit-pau-arnos.fr/wp-content/uploads/2023/02/roulagemoto-1.jpg
END:VEVENT
BEGIN:VEVENT
DTSTART;VALUE=DATE:20260723
DTEND;VALUE=DATE:20260727
DTSTAMP:20260423T164110
CREATED:20251125T080223Z
LAST-MODIFIED:20260219T090306Z
UID:10002118-1784764800-1785110399@circuit-pau-arnos.fr
SUMMARY:COUPES DE FRANCE PROMOSPORT
DESCRIPTION:plus d'informations
URL:https://circuit-pau-arnos.fr/event/coupes-de-france-promosport-2026/
LOCATION:Circuit PAU ARNOS\, Arnos\, 64048\, France
CATEGORIES:Circuit
ATTACH;FMTTYPE=image/jpeg:https://circuit-pau-arnos.fr/wp-content/uploads/2024/03/3-PAU-PDEC-C2-3723.jpg
END:VEVENT
BEGIN:VEVENT
DTSTART;TZID=Europe/Paris:20260727T083000
DTEND;TZID=Europe/Paris:20260727T180000
DTSTAMP:20260423T164110
CREATED:20251125T100549Z
LAST-MODIFIED:20260105T144822Z
UID:10002138-1785141000-1785175200@circuit-pau-arnos.fr
SUMMARY:OPEN MOTO
DESCRIPTION:Sous réserve d’un minimum de 30 inscrits à J-3 (afin de réserver le service médical\, les commissaires …) \nRoulage par séries de niveau ( 6 x 20 minutes) \nCatégories : \nInitiation (temps supérieur à 1’36) / Intermédiaire (temps compris entre 1’36 et 1’32) \nConfirmé (temps compris entre 1’32 et 1’28) / Expert (temps inférieur à 1’28) \nHoraires de roulage : 8h30 -12h30 / 14h00-18h00 \n\n            \n            \n            consultez les horaires prévisionnels \n	        \n            \n        \n    \nInscriptions :\n\nInscription obligatoire et paiement en ligne sur Engage Sports jusqu’à 16h00 la veille du roulage (sous réserve de places disponibles) : ouverture des inscriptions 2 mois avant\n\nTarifs :\n\n85€ la demi-journée (3 x 20 minutes\, matinée ou après-midi)\n130€ la journée (6 x 20 minutes)\nCotisation annuelle au MCPA : 10€ à régler sur Engage Sports\n\n\n            \n            \n            Cotisation annuelle\n	        \n            \n        \n    \n\nArrivée la veille entre 19h00 et 22h00 : 10€ / pilote\nLocation de box : 32m² : 40€ par jour / 84m² : 100€ par jour\n\nOuverture de l’accueil à 7h30 :\n\nPrésentation de votre Licence annuelle FFM en cours de validité ou de votre licence à la journée appelée « Pass Circuit » (Eco ou Vitesse)\, souscription sur le site internet de la FFM\n\n\n            \n            \n            Souscrire un Pass circuit\n	        \n            \n        \n    \nAvant de prendre la piste :\n\nObligation d’assister au briefing et de passer au contrôle sonomètre (maximum autorisé 102 dB)\n\nEquipement :\n\nCombinaison cuir ou deux pièces rattachables en cuir\nDorsale\, air-bag et protection pectorale fortement recommandés\nCasque intégral\nGants et bottes montantes\n\nRèglement journées open moto : \n\n            \n            \n            Consulter
URL:https://circuit-pau-arnos.fr/event/open-moto-27-juillet-2026/
LOCATION:Circuit PAU ARNOS\, Arnos\, 64048\, France
CATEGORIES:Moto
ATTACH;FMTTYPE=image/jpeg:https://circuit-pau-arnos.fr/wp-content/uploads/2023/02/roulagemoto-1.jpg
END:VEVENT
BEGIN:VEVENT
DTSTART;VALUE=DATE:20260728
DTEND;VALUE=DATE:20260730
DTSTAMP:20260423T164110
CREATED:20251125T073110Z
LAST-MODIFIED:20251125T073110Z
UID:10002092-1785196800-1785369599@circuit-pau-arnos.fr
SUMMARY:CIRCUIT RÉSERVÉ
DESCRIPTION:Circuit réservé
URL:https://circuit-pau-arnos.fr/event/circuit-reserve-83/
LOCATION:Circuit PAU ARNOS\, Arnos\, 64048\, France
CATEGORIES:Réservé
ATTACH;FMTTYPE=image/jpeg:https://circuit-pau-arnos.fr/wp-content/uploads/2023/03/reserve.jpg
END:VEVENT
BEGIN:VEVENT
DTSTART;VALUE=DATE:20260731
DTEND;VALUE=DATE:20260802
DTSTAMP:20260423T164110
CREATED:20251125T073602Z
LAST-MODIFIED:20251125T073602Z
UID:10002101-1785456000-1785628799@circuit-pau-arnos.fr
SUMMARY:ECOLE DE PILOTAGE AUTO GTRO
DESCRIPTION:Circuit réservé par GTRO
URL:https://circuit-pau-arnos.fr/event/ecole-de-pilotage-auto-gtro-39/
LOCATION:Circuit PAU ARNOS\, Arnos\, 64048\, France
CATEGORIES:Réservé
ATTACH;FMTTYPE=image/jpeg:https://circuit-pau-arnos.fr/wp-content/uploads/2023/03/reserve.jpg
END:VEVENT
END:VCALENDAR