BEGIN:VCALENDAR
VERSION:2.0
PRODID:-//Circuit Européen PAU ARNOS - ECPv6.15.13//NONSGML v1.0//EN
CALSCALE:GREGORIAN
METHOD:PUBLISH
X-ORIGINAL-URL:https://circuit-pau-arnos.fr
X-WR-CALDESC:Évènements pour Circuit Européen PAU ARNOS
REFRESH-INTERVAL;VALUE=DURATION:PT1H
X-Robots-Tag:noindex
X-PUBLISHED-TTL:PT1H
BEGIN:VTIMEZONE
TZID:Europe/Paris
BEGIN:DAYLIGHT
TZOFFSETFROM:+0100
TZOFFSETTO:+0200
TZNAME:CEST
DTSTART:20250330T010000
END:DAYLIGHT
BEGIN:STANDARD
TZOFFSETFROM:+0200
TZOFFSETTO:+0100
TZNAME:CET
DTSTART:20251026T010000
END:STANDARD
BEGIN:DAYLIGHT
TZOFFSETFROM:+0100
TZOFFSETTO:+0200
TZNAME:CEST
DTSTART:20260329T010000
END:DAYLIGHT
BEGIN:STANDARD
TZOFFSETFROM:+0200
TZOFFSETTO:+0100
TZNAME:CET
DTSTART:20261025T010000
END:STANDARD
BEGIN:DAYLIGHT
TZOFFSETFROM:+0100
TZOFFSETTO:+0200
TZNAME:CEST
DTSTART:20270328T010000
END:DAYLIGHT
BEGIN:STANDARD
TZOFFSETFROM:+0200
TZOFFSETTO:+0100
TZNAME:CET
DTSTART:20271031T010000
END:STANDARD
END:VTIMEZONE
BEGIN:VEVENT
DTSTART;VALUE=DATE:20260914
DTEND;VALUE=DATE:20261023
DTSTAMP:20260423T210207
CREATED:20260402T131408Z
LAST-MODIFIED:20260402T131408Z
UID:10002306-1789344000-1792713599@circuit-pau-arnos.fr
SUMMARY:CIRCUIT RÉSERVÉ
DESCRIPTION:Circuit réservé
URL:https://circuit-pau-arnos.fr/event/circuit-reserve-96/
LOCATION:Circuit PAU ARNOS\, Arnos\, 64048\, France
CATEGORIES:Réservé
ATTACH;FMTTYPE=image/jpeg:https://circuit-pau-arnos.fr/wp-content/uploads/2023/03/reserve.jpg
END:VEVENT
BEGIN:VEVENT
DTSTART;VALUE=DATE:20261006
DTEND;VALUE=DATE:20261008
DTSTAMP:20260423T210207
CREATED:20260211T112004Z
LAST-MODIFIED:20260211T112004Z
UID:10002242-1791244800-1791417599@circuit-pau-arnos.fr
SUMMARY:KARTING FERMÉ
DESCRIPTION:
URL:https://circuit-pau-arnos.fr/event/karting-ferme-121/
LOCATION:Circuit PAU ARNOS\, Arnos\, 64048\, France
CATEGORIES:Karting
END:VEVENT
BEGIN:VEVENT
DTSTART;VALUE=DATE:20261023
DTEND;VALUE=DATE:20261026
DTSTAMP:20260423T210207
CREATED:20251125T073623Z
LAST-MODIFIED:20251125T073623Z
UID:10002102-1792713600-1792972799@circuit-pau-arnos.fr
SUMMARY:ECOLE DE PILOTAGE AUTO GTRO
DESCRIPTION:Circuit réservé par GTRO
URL:https://circuit-pau-arnos.fr/event/ecole-de-pilotage-auto-gtro-40/
LOCATION:Circuit PAU ARNOS\, Arnos\, 64048\, France
CATEGORIES:Réservé
ATTACH;FMTTYPE=image/jpeg:https://circuit-pau-arnos.fr/wp-content/uploads/2023/03/reserve.jpg
END:VEVENT
BEGIN:VEVENT
DTSTART;TZID=Europe/Paris:20261026T083000
DTEND;TZID=Europe/Paris:20261026T180000
DTSTAMP:20260423T210207
CREATED:20251125T102338Z
LAST-MODIFIED:20260105T145122Z
UID:10002145-1793003400-1793037600@circuit-pau-arnos.fr
SUMMARY:OPEN MOTO
DESCRIPTION:Sous réserve d’un minimum de 30 inscrits à J-3 (afin de réserver le service médical\, les commissaires …) \nRoulage par séries de niveau ( 6 x 20 minutes) \nCatégories : \nInitiation (temps supérieur à 1’35) \nConfirmé (temps compris entre 1’35 et 1’30) \nExpert (temps inférieur à 1’30) \nHoraires de roulage : 8h50 -12h30 / 14h00-17h40 \n\n            \n            \n            consultez les horaires prévisionnels \n	        \n            \n        \n    \nInscriptions :\n\nInscription obligatoire et paiement en ligne sur Engage Sports jusqu’à 16h00 la veille du roulage (sous réserve de places disponibles) : ouverture des inscriptions 2 mois avant\n\nTarifs :\n\n85€ la demi-journée (3 x 20 minutes\, matinée ou après-midi)\n130€ la journée (6 x 20 minutes)\nCotisation annuelle au MCPA : 10€ à régler sur Engage Sports\n\n\n            \n            \n            Cotisation annuelle\n	        \n            \n        \n    \n\nArrivée la veille entre 19h00 et 22h00 : 10€ / pilote\nLocation de box : 32m² : 40€ par jour / 84m² : 100€ par jour\n\nOuverture de l’accueil à 7h30 :\n\nPrésentation de votre Licence annuelle FFM en cours de validité ou de votre licence à la journée appelée « Pass Circuit » (Eco ou Vitesse)\, souscription sur le site internet de la FFM\n\n\n            \n            \n            Souscrire un Pass circuit\n	        \n            \n        \n    \nAvant de prendre la piste :\n\nObligation d’assister au briefing et de passer au contrôle sonomètre (maximum autorisé 102 dB)\n\nEquipement :\n\nCombinaison cuir ou deux pièces rattachables en cuir\nDorsale\, air-bag et protection pectorale fortement recommandés\nCasque intégral\nGants et bottes montantes\n\nRèglement journées open moto : \n\n            \n            \n            Consulter
URL:https://circuit-pau-arnos.fr/event/open-moto-26-octobre-2026/
LOCATION:Circuit PAU ARNOS\, Arnos\, 64048\, France
CATEGORIES:Moto
ATTACH;FMTTYPE=image/jpeg:https://circuit-pau-arnos.fr/wp-content/uploads/2023/02/roulagemoto-1.jpg
END:VEVENT
BEGIN:VEVENT
DTSTART;VALUE=DATE:20261030
DTEND;VALUE=DATE:20261031
DTSTAMP:20260423T210207
CREATED:20260406T070136Z
LAST-MODIFIED:20260406T070136Z
UID:10002308-1793318400-1793404799@circuit-pau-arnos.fr
SUMMARY:CIRCUIT RÉSERVÉ
DESCRIPTION:Circuit réservé
URL:https://circuit-pau-arnos.fr/event/circuit-reserve-98/
LOCATION:Circuit PAU ARNOS\, Arnos\, 64048\, France
CATEGORIES:Réservé
ATTACH;FMTTYPE=image/jpeg:https://circuit-pau-arnos.fr/wp-content/uploads/2023/03/reserve.jpg
END:VEVENT
BEGIN:VEVENT
DTSTART;TZID=Europe/Paris:20261031T083000
DTEND;TZID=Europe/Paris:20261031T180000
DTSTAMP:20260423T210207
CREATED:20251125T102523Z
LAST-MODIFIED:20260105T145137Z
UID:10002146-1793435400-1793469600@circuit-pau-arnos.fr
SUMMARY:OPEN MOTO
DESCRIPTION:Sous réserve d’un minimum de 30 inscrits à J-3 (afin de réserver le service médical\, les commissaires …) \nRoulage par séries de niveau ( 6 x 20 minutes) \nCatégories : \nInitiation (temps supérieur à 1’35) \nConfirmé (temps compris entre 1’35 et 1’30) \nExpert (temps inférieur à 1’30) \nHoraires de roulage : 8h50 -12h30 / 14h00-17h40 \n\n            \n            \n            consultez les horaires prévisionnels \n	        \n            \n        \n    \nInscriptions :\n\nInscription obligatoire et paiement en ligne sur Engage Sports jusqu’à 16h00 la veille du roulage (sous réserve de places disponibles) : ouverture des inscriptions 2 mois avant\n\nTarifs :\n\n85€ la demi-journée (3 x 20 minutes\, matinée ou après-midi)\n130€ la journée (6 x 20 minutes)\nCotisation annuelle au MCPA : 10€ à régler sur Engage Sports\n\n\n            \n            \n            Cotisation annuelle\n	        \n            \n        \n    \n\nArrivée la veille entre 19h00 et 22h00 : 10€ / pilote\nLocation de box : 32m² : 40€ par jour / 84m² : 100€ par jour\n\nOuverture de l’accueil à 7h30 :\n\nPrésentation de votre Licence annuelle FFM en cours de validité ou de votre licence à la journée appelée « Pass Circuit » (Eco ou Vitesse)\, souscription sur le site internet de la FFM\n\n\n            \n            \n            Souscrire un Pass circuit\n	        \n            \n        \n    \nAvant de prendre la piste :\n\nObligation d’assister au briefing et de passer au contrôle sonomètre (maximum autorisé 102 dB)\n\nEquipement :\n\nCombinaison cuir ou deux pièces rattachables en cuir\nDorsale\, air-bag et protection pectorale fortement recommandés\nCasque intégral\nGants et bottes montantes\n\nRèglement journées open moto : \n\n            \n            \n            Consulter
URL:https://circuit-pau-arnos.fr/event/open-moto-31-octobre-2026/
LOCATION:Circuit PAU ARNOS\, Arnos\, 64048\, France
CATEGORIES:Moto
ATTACH;FMTTYPE=image/jpeg:https://circuit-pau-arnos.fr/wp-content/uploads/2023/02/roulagemoto-1.jpg
END:VEVENT
END:VCALENDAR